BEGIN:VCALENDAR
VERSION:2.0
PRODID:-//Saratoga Fire District - ECPv6.15.20//NONSGML v1.0//EN
CALSCALE:GREGORIAN
METHOD:PUBLISH
X-WR-CALNAME:Saratoga Fire District
X-ORIGINAL-URL:https://www.saratogafire.org
X-WR-CALDESC:Events for Saratoga Fire District
REFRESH-INTERVAL;VALUE=DURATION:PT1H
X-Robots-Tag:noindex
X-PUBLISHED-TTL:PT1H
BEGIN:VTIMEZONE
TZID:America/Los_Angeles
BEGIN:DAYLIGHT
TZOFFSETFROM:-0800
TZOFFSETTO:-0700
TZNAME:PDT
DTSTART:20200308T100000
END:DAYLIGHT
BEGIN:STANDARD
TZOFFSETFROM:-0700
TZOFFSETTO:-0800
TZNAME:PST
DTSTART:20201101T090000
END:STANDARD
BEGIN:DAYLIGHT
TZOFFSETFROM:-0800
TZOFFSETTO:-0700
TZNAME:PDT
DTSTART:20210314T100000
END:DAYLIGHT
BEGIN:STANDARD
TZOFFSETFROM:-0700
TZOFFSETTO:-0800
TZNAME:PST
DTSTART:20211107T090000
END:STANDARD
BEGIN:DAYLIGHT
TZOFFSETFROM:-0800
TZOFFSETTO:-0700
TZNAME:PDT
DTSTART:20220313T100000
END:DAYLIGHT
BEGIN:STANDARD
TZOFFSETFROM:-0700
TZOFFSETTO:-0800
TZNAME:PST
DTSTART:20221106T090000
END:STANDARD
BEGIN:DAYLIGHT
TZOFFSETFROM:-0800
TZOFFSETTO:-0700
TZNAME:PDT
DTSTART:20230312T100000
END:DAYLIGHT
BEGIN:STANDARD
TZOFFSETFROM:-0700
TZOFFSETTO:-0800
TZNAME:PST
DTSTART:20231105T090000
END:STANDARD
BEGIN:DAYLIGHT
TZOFFSETFROM:-0800
TZOFFSETTO:-0700
TZNAME:PDT
DTSTART:20240310T100000
END:DAYLIGHT
BEGIN:STANDARD
TZOFFSETFROM:-0700
TZOFFSETTO:-0800
TZNAME:PST
DTSTART:20241103T090000
END:STANDARD
END:VTIMEZONE
BEGIN:VEVENT
DTSTART;TZID=America/Los_Angeles:20230201T090000
DTEND;TZID=America/Los_Angeles:20230201T140000
DTSTAMP:20260422T152327
CREATED:20221213T205847Z
LAST-MODIFIED:20221213T210054Z
UID:10000052-1675242000-1675260000@www.saratogafire.org
SUMMARY:County Fire
DESCRIPTION:
URL:https://www.saratogafire.org/event/county-fire/2023-02-01/
LOCATION:Saratoga Community Room\, 14380 Saratoga Avenue\, Saratoga\, CA\, 95070\, United States
GEO:37.259058;-122.0314999
X-APPLE-STRUCTURED-LOCATION;VALUE=URI;X-ADDRESS=Saratoga Community Room 14380 Saratoga Avenue Saratoga CA 95070 United States;X-APPLE-RADIUS=500;X-TITLE=14380 Saratoga Avenue:geo:-122.0314999,37.259058
END:VEVENT
BEGIN:VEVENT
DTSTART;TZID=America/Los_Angeles:20230131T090000
DTEND;TZID=America/Los_Angeles:20230131T140000
DTSTAMP:20260422T152327
CREATED:20221213T205847Z
LAST-MODIFIED:20221213T210054Z
UID:10000051-1675155600-1675173600@www.saratogafire.org
SUMMARY:County Fire
DESCRIPTION:
URL:https://www.saratogafire.org/event/county-fire/2023-01-31/
LOCATION:Saratoga Community Room\, 14380 Saratoga Avenue\, Saratoga\, CA\, 95070\, United States
GEO:37.259058;-122.0314999
X-APPLE-STRUCTURED-LOCATION;VALUE=URI;X-ADDRESS=Saratoga Community Room 14380 Saratoga Avenue Saratoga CA 95070 United States;X-APPLE-RADIUS=500;X-TITLE=14380 Saratoga Avenue:geo:-122.0314999,37.259058
END:VEVENT
BEGIN:VEVENT
DTSTART;TZID=America/Los_Angeles:20230130T090000
DTEND;TZID=America/Los_Angeles:20230130T140000
DTSTAMP:20260422T152327
CREATED:20221213T205847Z
LAST-MODIFIED:20221213T210054Z
UID:10000050-1675069200-1675087200@www.saratogafire.org
SUMMARY:County Fire
DESCRIPTION:
URL:https://www.saratogafire.org/event/county-fire/2023-01-30/
LOCATION:Saratoga Community Room\, 14380 Saratoga Avenue\, Saratoga\, CA\, 95070\, United States
GEO:37.259058;-122.0314999
X-APPLE-STRUCTURED-LOCATION;VALUE=URI;X-ADDRESS=Saratoga Community Room 14380 Saratoga Avenue Saratoga CA 95070 United States;X-APPLE-RADIUS=500;X-TITLE=14380 Saratoga Avenue:geo:-122.0314999,37.259058
END:VEVENT
BEGIN:VEVENT
DTSTART;TZID=America/Los_Angeles:20230124T090000
DTEND;TZID=America/Los_Angeles:20230124T130000
DTSTAMP:20260422T152327
CREATED:20221219T171458Z
LAST-MODIFIED:20221219T171458Z
UID:10000064-1674550800-1674565200@www.saratogafire.org
SUMMARY:County Fire
DESCRIPTION:
URL:https://www.saratogafire.org/event/county-fire-5/
LOCATION:Saratoga Community Room\, 14380 Saratoga Avenue\, Saratoga\, CA\, 95070\, United States
GEO:37.259058;-122.0314999
X-APPLE-STRUCTURED-LOCATION;VALUE=URI;X-ADDRESS=Saratoga Community Room 14380 Saratoga Avenue Saratoga CA 95070 United States;X-APPLE-RADIUS=500;X-TITLE=14380 Saratoga Avenue:geo:-122.0314999,37.259058
END:VEVENT
BEGIN:VEVENT
DTSTART;TZID=America/Los_Angeles:20230104T193000
DTEND;TZID=America/Los_Angeles:20230104T210000
DTSTAMP:20260422T152327
CREATED:20230109T175912Z
LAST-MODIFIED:20230109T175912Z
UID:10000065-1672860600-1672866000@www.saratogafire.org
SUMMARY:SARATOGA AMATEUR RADIO ASSOCIATION
DESCRIPTION:
URL:https://www.saratogafire.org/event/saratoga-amateur-radio-association-2/2023-01-04/
LOCATION:Saratoga Community Room\, 14380 Saratoga Avenue\, Saratoga\, CA\, 95070\, United States
GEO:37.259058;-122.0314999
X-APPLE-STRUCTURED-LOCATION;VALUE=URI;X-ADDRESS=Saratoga Community Room 14380 Saratoga Avenue Saratoga CA 95070 United States;X-APPLE-RADIUS=500;X-TITLE=14380 Saratoga Avenue:geo:-122.0314999,37.259058
END:VEVENT
BEGIN:VEVENT
DTSTART;TZID=America/Los_Angeles:20230104T193000
DTEND;TZID=America/Los_Angeles:20230104T210000
DTSTAMP:20260422T152327
CREATED:20220404T200545Z
LAST-MODIFIED:20220404T201435Z
UID:10000044-1672860600-1672866000@www.saratogafire.org
SUMMARY:Ham Radio Operators
DESCRIPTION:
URL:https://www.saratogafire.org/event/ham-radio-operators-2022-07-06/2023-01-04/
LOCATION:Saratoga Community Room\, 14380 Saratoga Avenue\, Saratoga\, CA\, 95070\, United States
GEO:37.259058;-122.0314999
X-APPLE-STRUCTURED-LOCATION;VALUE=URI;X-ADDRESS=Saratoga Community Room 14380 Saratoga Avenue Saratoga CA 95070 United States;X-APPLE-RADIUS=500;X-TITLE=14380 Saratoga Avenue:geo:-122.0314999,37.259058
END:VEVENT
BEGIN:VEVENT
DTSTART;TZID=America/Los_Angeles:20221213T090000
DTEND;TZID=America/Los_Angeles:20221213T120000
DTSTAMP:20260422T152327
CREATED:20221121T165757Z
LAST-MODIFIED:20221121T165757Z
UID:10000029-1670922000-1670932800@www.saratogafire.org
SUMMARY:Board of Commissioners Meeting
DESCRIPTION:
URL:https://www.saratogafire.org/event/board-of-commissioners-meeting/
LOCATION:Saratoga Community Room\, 14380 Saratoga Avenue\, Saratoga\, CA\, 95070\, United States
GEO:37.259058;-122.0314999
X-APPLE-STRUCTURED-LOCATION;VALUE=URI;X-ADDRESS=Saratoga Community Room 14380 Saratoga Avenue Saratoga CA 95070 United States;X-APPLE-RADIUS=500;X-TITLE=14380 Saratoga Avenue:geo:-122.0314999,37.259058
END:VEVENT
BEGIN:VEVENT
DTSTART;TZID=America/Los_Angeles:20221207T193000
DTEND;TZID=America/Los_Angeles:20221207T210000
DTSTAMP:20260422T152327
CREATED:20220404T200545Z
LAST-MODIFIED:20220404T201435Z
UID:10000043-1670441400-1670446800@www.saratogafire.org
SUMMARY:Ham Radio Operators
DESCRIPTION:
URL:https://www.saratogafire.org/event/ham-radio-operators-2022-07-06/2022-12-07/
LOCATION:Saratoga Community Room\, 14380 Saratoga Avenue\, Saratoga\, CA\, 95070\, United States
GEO:37.259058;-122.0314999
X-APPLE-STRUCTURED-LOCATION;VALUE=URI;X-ADDRESS=Saratoga Community Room 14380 Saratoga Avenue Saratoga CA 95070 United States;X-APPLE-RADIUS=500;X-TITLE=14380 Saratoga Avenue:geo:-122.0314999,37.259058
END:VEVENT
BEGIN:VEVENT
DTSTART;TZID=America/Los_Angeles:20221207T080000
DTEND;TZID=America/Los_Angeles:20221207T170000
DTSTAMP:20260422T152327
CREATED:20220928T184836Z
LAST-MODIFIED:20220928T184836Z
UID:10000032-1670400000-1670432400@www.saratogafire.org
SUMMARY:County Fire A-Staff Meeting
DESCRIPTION:
URL:https://www.saratogafire.org/event/county-fire-a-staff-meeting/2022-12-07/
LOCATION:Saratoga Community Room\, 14380 Saratoga Avenue\, Saratoga\, CA\, 95070\, United States
GEO:37.259058;-122.0314999
X-APPLE-STRUCTURED-LOCATION;VALUE=URI;X-ADDRESS=Saratoga Community Room 14380 Saratoga Avenue Saratoga CA 95070 United States;X-APPLE-RADIUS=500;X-TITLE=14380 Saratoga Avenue:geo:-122.0314999,37.259058
END:VEVENT
BEGIN:VEVENT
DTSTART;TZID=America/Los_Angeles:20221206T080000
DTEND;TZID=America/Los_Angeles:20221206T170000
DTSTAMP:20260422T152327
CREATED:20220928T184836Z
LAST-MODIFIED:20220928T184836Z
UID:10000031-1670313600-1670346000@www.saratogafire.org
SUMMARY:County Fire A-Staff Meeting
DESCRIPTION:
URL:https://www.saratogafire.org/event/county-fire-a-staff-meeting/2022-12-06/
LOCATION:Saratoga Community Room\, 14380 Saratoga Avenue\, Saratoga\, CA\, 95070\, United States
GEO:37.259058;-122.0314999
X-APPLE-STRUCTURED-LOCATION;VALUE=URI;X-ADDRESS=Saratoga Community Room 14380 Saratoga Avenue Saratoga CA 95070 United States;X-APPLE-RADIUS=500;X-TITLE=14380 Saratoga Avenue:geo:-122.0314999,37.259058
END:VEVENT
BEGIN:VEVENT
DTSTART;TZID=America/Los_Angeles:20221102T193000
DTEND;TZID=America/Los_Angeles:20221102T210000
DTSTAMP:20260422T152327
CREATED:20220404T200545Z
LAST-MODIFIED:20220404T201435Z
UID:10000042-1667417400-1667422800@www.saratogafire.org
SUMMARY:Ham Radio Operators
DESCRIPTION:
URL:https://www.saratogafire.org/event/ham-radio-operators-2022-07-06/2022-11-02/
LOCATION:Saratoga Community Room\, 14380 Saratoga Avenue\, Saratoga\, CA\, 95070\, United States
GEO:37.259058;-122.0314999
X-APPLE-STRUCTURED-LOCATION;VALUE=URI;X-ADDRESS=Saratoga Community Room 14380 Saratoga Avenue Saratoga CA 95070 United States;X-APPLE-RADIUS=500;X-TITLE=14380 Saratoga Avenue:geo:-122.0314999,37.259058
END:VEVENT
BEGIN:VEVENT
DTSTART;TZID=America/Los_Angeles:20221005T193000
DTEND;TZID=America/Los_Angeles:20221005T210000
DTSTAMP:20260422T152327
CREATED:20220404T200545Z
LAST-MODIFIED:20220404T201435Z
UID:10000041-1664998200-1665003600@www.saratogafire.org
SUMMARY:Ham Radio Operators
DESCRIPTION:
URL:https://www.saratogafire.org/event/ham-radio-operators-2022-07-06/2022-10-05/
LOCATION:Saratoga Community Room\, 14380 Saratoga Avenue\, Saratoga\, CA\, 95070\, United States
GEO:37.259058;-122.0314999
X-APPLE-STRUCTURED-LOCATION;VALUE=URI;X-ADDRESS=Saratoga Community Room 14380 Saratoga Avenue Saratoga CA 95070 United States;X-APPLE-RADIUS=500;X-TITLE=14380 Saratoga Avenue:geo:-122.0314999,37.259058
END:VEVENT
BEGIN:VEVENT
DTSTART;TZID=America/Los_Angeles:20220907T193000
DTEND;TZID=America/Los_Angeles:20220907T210000
DTSTAMP:20260422T152327
CREATED:20220404T200545Z
LAST-MODIFIED:20220404T201435Z
UID:10000040-1662579000-1662584400@www.saratogafire.org
SUMMARY:Ham Radio Operators
DESCRIPTION:
URL:https://www.saratogafire.org/event/ham-radio-operators-2022-07-06/2022-09-07/
LOCATION:Saratoga Community Room\, 14380 Saratoga Avenue\, Saratoga\, CA\, 95070\, United States
GEO:37.259058;-122.0314999
X-APPLE-STRUCTURED-LOCATION;VALUE=URI;X-ADDRESS=Saratoga Community Room 14380 Saratoga Avenue Saratoga CA 95070 United States;X-APPLE-RADIUS=500;X-TITLE=14380 Saratoga Avenue:geo:-122.0314999,37.259058
END:VEVENT
BEGIN:VEVENT
DTSTART;TZID=America/Los_Angeles:20220803T193000
DTEND;TZID=America/Los_Angeles:20220803T210000
DTSTAMP:20260422T152327
CREATED:20220404T200545Z
LAST-MODIFIED:20220404T201435Z
UID:10000039-1659555000-1659560400@www.saratogafire.org
SUMMARY:Ham Radio Operators
DESCRIPTION:
URL:https://www.saratogafire.org/event/ham-radio-operators-2022-07-06/2022-08-03/
LOCATION:Saratoga Community Room\, 14380 Saratoga Avenue\, Saratoga\, CA\, 95070\, United States
GEO:37.259058;-122.0314999
X-APPLE-STRUCTURED-LOCATION;VALUE=URI;X-ADDRESS=Saratoga Community Room 14380 Saratoga Avenue Saratoga CA 95070 United States;X-APPLE-RADIUS=500;X-TITLE=14380 Saratoga Avenue:geo:-122.0314999,37.259058
END:VEVENT
BEGIN:VEVENT
DTSTART;TZID=America/Los_Angeles:20220706T193000
DTEND;TZID=America/Los_Angeles:20220706T210000
DTSTAMP:20260422T152327
CREATED:20220404T200545Z
LAST-MODIFIED:20220404T201435Z
UID:10000038-1657135800-1657141200@www.saratogafire.org
SUMMARY:Ham Radio Operators
DESCRIPTION:
URL:https://www.saratogafire.org/event/ham-radio-operators-2022-07-06/2022-07-06/
LOCATION:Saratoga Community Room\, 14380 Saratoga Avenue\, Saratoga\, CA\, 95070\, United States
GEO:37.259058;-122.0314999
X-APPLE-STRUCTURED-LOCATION;VALUE=URI;X-ADDRESS=Saratoga Community Room 14380 Saratoga Avenue Saratoga CA 95070 United States;X-APPLE-RADIUS=500;X-TITLE=14380 Saratoga Avenue:geo:-122.0314999,37.259058
END:VEVENT
BEGIN:VEVENT
DTSTART;TZID=America/Los_Angeles:20220621T090000
DTEND;TZID=America/Los_Angeles:20220621T120000
DTSTAMP:20260422T152327
CREATED:20210520T204248Z
LAST-MODIFIED:20220206T210801Z
UID:10000048-1655802000-1655812800@www.saratogafire.org
SUMMARY:Board of Fire Commissioners Meeting
DESCRIPTION:Board of Fire Commissioners Meeting
URL:https://www.saratogafire.org/event/board-of-commissioner-meeting-2021-07-20/2022-06-21/
LOCATION:Saratoga Community Room\, 14380 Saratoga Avenue\, Saratoga\, CA\, 95070\, United States
GEO:37.259058;-122.0314999
X-APPLE-STRUCTURED-LOCATION;VALUE=URI;X-ADDRESS=Saratoga Community Room 14380 Saratoga Avenue Saratoga CA 95070 United States;X-APPLE-RADIUS=500;X-TITLE=14380 Saratoga Avenue:geo:-122.0314999,37.259058
END:VEVENT
BEGIN:VEVENT
DTSTART;TZID=America/Los_Angeles:20220616T090000
DTEND;TZID=America/Los_Angeles:20220616T130000
DTSTAMP:20260422T152327
CREATED:20220509T155601Z
LAST-MODIFIED:20220509T155601Z
UID:10000035-1655370000-1655384400@www.saratogafire.org
SUMMARY:County Fire reservation
DESCRIPTION:
URL:https://www.saratogafire.org/event/county-fire-reservation-2/
LOCATION:Saratoga Community Room\, 14380 Saratoga Avenue\, Saratoga\, CA\, 95070\, United States
GEO:37.259058;-122.0314999
X-APPLE-STRUCTURED-LOCATION;VALUE=URI;X-ADDRESS=Saratoga Community Room 14380 Saratoga Avenue Saratoga CA 95070 United States;X-APPLE-RADIUS=500;X-TITLE=14380 Saratoga Avenue:geo:-122.0314999,37.259058
END:VEVENT
BEGIN:VEVENT
DTSTART;TZID=America/Los_Angeles:20220615T090000
DTEND;TZID=America/Los_Angeles:20220615T160000
DTSTAMP:20260422T152327
CREATED:20220509T155500Z
LAST-MODIFIED:20220509T155500Z
UID:10000036-1655283600-1655308800@www.saratogafire.org
SUMMARY:County Fire reservation
DESCRIPTION:
URL:https://www.saratogafire.org/event/county-fire-reservation/
LOCATION:Saratoga Community Room\, 14380 Saratoga Avenue\, Saratoga\, CA\, 95070\, United States
GEO:37.259058;-122.0314999
X-APPLE-STRUCTURED-LOCATION;VALUE=URI;X-ADDRESS=Saratoga Community Room 14380 Saratoga Avenue Saratoga CA 95070 United States;X-APPLE-RADIUS=500;X-TITLE=14380 Saratoga Avenue:geo:-122.0314999,37.259058
END:VEVENT
BEGIN:VEVENT
DTSTART;TZID=America/Los_Angeles:20220608T193000
DTEND;TZID=America/Los_Angeles:20220608T210000
DTSTAMP:20260422T152327
CREATED:20220523T174525Z
LAST-MODIFIED:20220523T174525Z
UID:10000033-1654716600-1654722000@www.saratogafire.org
SUMMARY:SARATOGA AMATEUR RADIO ASSOCIATION
DESCRIPTION:
URL:https://www.saratogafire.org/event/saratoga-amateur-radio-association/
LOCATION:Saratoga Community Room\, 14380 Saratoga Avenue\, Saratoga\, CA\, 95070\, United States
GEO:37.259058;-122.0314999
X-APPLE-STRUCTURED-LOCATION;VALUE=URI;X-ADDRESS=Saratoga Community Room 14380 Saratoga Avenue Saratoga CA 95070 United States;X-APPLE-RADIUS=500;X-TITLE=14380 Saratoga Avenue:geo:-122.0314999,37.259058
END:VEVENT
BEGIN:VEVENT
DTSTART;TZID=America/Los_Angeles:20220517T090000
DTEND;TZID=America/Los_Angeles:20220517T110000
DTSTAMP:20260422T152327
CREATED:20220509T155807Z
LAST-MODIFIED:20220509T155807Z
UID:10000034-1652778000-1652785200@www.saratogafire.org
SUMMARY:Fire Commissioners Meeting
DESCRIPTION:
URL:https://www.saratogafire.org/event/fire-commissioners-meeting/
LOCATION:Saratoga Community Room\, 14380 Saratoga Avenue\, Saratoga\, CA\, 95070\, United States
GEO:37.259058;-122.0314999
X-APPLE-STRUCTURED-LOCATION;VALUE=URI;X-ADDRESS=Saratoga Community Room 14380 Saratoga Avenue Saratoga CA 95070 United States;X-APPLE-RADIUS=500;X-TITLE=14380 Saratoga Avenue:geo:-122.0314999,37.259058
END:VEVENT
BEGIN:VEVENT
DTSTART;TZID=America/Los_Angeles:20220315T090000
DTEND;TZID=America/Los_Angeles:20220315T120000
DTSTAMP:20260422T152327
CREATED:20210520T204248Z
LAST-MODIFIED:20220206T210801Z
UID:10000047-1647334800-1647345600@www.saratogafire.org
SUMMARY:Board of Fire Commissioners Meeting
DESCRIPTION:Board of Fire Commissioners Meeting
URL:https://www.saratogafire.org/event/board-of-commissioner-meeting-2021-07-20/2022-03-15/
LOCATION:Saratoga Community Room\, 14380 Saratoga Avenue\, Saratoga\, CA\, 95070\, United States
GEO:37.259058;-122.0314999
X-APPLE-STRUCTURED-LOCATION;VALUE=URI;X-ADDRESS=Saratoga Community Room 14380 Saratoga Avenue Saratoga CA 95070 United States;X-APPLE-RADIUS=500;X-TITLE=14380 Saratoga Avenue:geo:-122.0314999,37.259058
END:VEVENT
BEGIN:VEVENT
DTSTART;TZID=America/Los_Angeles:20220215T090000
DTEND;TZID=America/Los_Angeles:20220215T120000
DTSTAMP:20260422T152327
CREATED:20210520T204248Z
LAST-MODIFIED:20220206T210801Z
UID:10000046-1644915600-1644926400@www.saratogafire.org
SUMMARY:Board of Fire Commissioners Meeting
DESCRIPTION:Board of Fire Commissioners Meeting
URL:https://www.saratogafire.org/event/board-of-commissioner-meeting-2021-07-20/2022-02-15/
LOCATION:Saratoga Community Room\, 14380 Saratoga Avenue\, Saratoga\, CA\, 95070\, United States
GEO:37.259058;-122.0314999
X-APPLE-STRUCTURED-LOCATION;VALUE=URI;X-ADDRESS=Saratoga Community Room 14380 Saratoga Avenue Saratoga CA 95070 United States;X-APPLE-RADIUS=500;X-TITLE=14380 Saratoga Avenue:geo:-122.0314999,37.259058
END:VEVENT
BEGIN:VEVENT
DTSTART;TZID=America/Los_Angeles:20210720T090000
DTEND;TZID=America/Los_Angeles:20210720T120000
DTSTAMP:20260422T152327
CREATED:20210520T204248Z
LAST-MODIFIED:20220206T210801Z
UID:10000045-1626771600-1626782400@www.saratogafire.org
SUMMARY:Board of Fire Commissioners Meeting
DESCRIPTION:Board of Fire Commissioners Meeting
URL:https://www.saratogafire.org/event/board-of-commissioner-meeting-2021-07-20/2021-07-20/
LOCATION:Saratoga Community Room\, 14380 Saratoga Avenue\, Saratoga\, CA\, 95070\, United States
GEO:37.259058;-122.0314999
X-APPLE-STRUCTURED-LOCATION;VALUE=URI;X-ADDRESS=Saratoga Community Room 14380 Saratoga Avenue Saratoga CA 95070 United States;X-APPLE-RADIUS=500;X-TITLE=14380 Saratoga Avenue:geo:-122.0314999,37.259058
END:VEVENT
BEGIN:VEVENT
DTSTART;TZID=America/Los_Angeles:20210622T090000
DTEND;TZID=America/Los_Angeles:20210622T120000
DTSTAMP:20260422T152327
CREATED:20210520T204248Z
LAST-MODIFIED:20210524T154609Z
UID:10000049-1624352400-1624363200@www.saratogafire.org
SUMMARY:Board of Fire Commissioners Meeting
DESCRIPTION:Board of Fire Commissioners Meeting
URL:https://www.saratogafire.org/event/board-of-commissioner-meeting/
LOCATION:Saratoga Community Room\, 14380 Saratoga Avenue\, Saratoga\, CA\, 95070\, United States
GEO:37.259058;-122.0314999
X-APPLE-STRUCTURED-LOCATION;VALUE=URI;X-ADDRESS=Saratoga Community Room 14380 Saratoga Avenue Saratoga CA 95070 United States;X-APPLE-RADIUS=500;X-TITLE=14380 Saratoga Avenue:geo:-122.0314999,37.259058
END:VEVENT
END:VCALENDAR