BEGIN:VCALENDAR
VERSION:2.0
PRODID:-//Saratoga Fire District - ECPv6.15.20//NONSGML v1.0//EN
CALSCALE:GREGORIAN
METHOD:PUBLISH
X-WR-CALNAME:Saratoga Fire District
X-ORIGINAL-URL:https://www.saratogafire.org
X-WR-CALDESC:Events for Saratoga Fire District
REFRESH-INTERVAL;VALUE=DURATION:PT1H
X-Robots-Tag:noindex
X-PUBLISHED-TTL:PT1H
BEGIN:VTIMEZONE
TZID:America/Los_Angeles
BEGIN:DAYLIGHT
TZOFFSETFROM:-0800
TZOFFSETTO:-0700
TZNAME:PDT
DTSTART:20230312T100000
END:DAYLIGHT
BEGIN:STANDARD
TZOFFSETFROM:-0700
TZOFFSETTO:-0800
TZNAME:PST
DTSTART:20231105T090000
END:STANDARD
BEGIN:DAYLIGHT
TZOFFSETFROM:-0800
TZOFFSETTO:-0700
TZNAME:PDT
DTSTART:20240310T100000
END:DAYLIGHT
BEGIN:STANDARD
TZOFFSETFROM:-0700
TZOFFSETTO:-0800
TZNAME:PST
DTSTART:20241103T090000
END:STANDARD
BEGIN:DAYLIGHT
TZOFFSETFROM:-0800
TZOFFSETTO:-0700
TZNAME:PDT
DTSTART:20250309T100000
END:DAYLIGHT
BEGIN:STANDARD
TZOFFSETFROM:-0700
TZOFFSETTO:-0800
TZNAME:PST
DTSTART:20251102T090000
END:STANDARD
END:VTIMEZONE
BEGIN:VEVENT
DTSTART;TZID=America/Los_Angeles:20240626T080000
DTEND;TZID=America/Los_Angeles:20240626T170000
DTSTAMP:20260421T164019
CREATED:20240612T204911Z
LAST-MODIFIED:20240612T204911Z
UID:10000185-1719388800-1719421200@www.saratogafire.org
SUMMARY:Santa Clara County Fire
DESCRIPTION:
URL:https://www.saratogafire.org/event/santa-clara-county-fire-2/
LOCATION:Saratoga Community Room\, 14380 Saratoga Avenue\, Saratoga\, CA\, 95070\, United States
ORGANIZER;CN="Tiffany Thornton":MAILTO:tiffany.thornton@sccfd.org
GEO:37.259058;-122.0314999
X-APPLE-STRUCTURED-LOCATION;VALUE=URI;X-ADDRESS=Saratoga Community Room 14380 Saratoga Avenue Saratoga CA 95070 United States;X-APPLE-RADIUS=500;X-TITLE=14380 Saratoga Avenue:geo:-122.0314999,37.259058
END:VEVENT
BEGIN:VEVENT
DTSTART;VALUE=DATE:20240625
DTEND;VALUE=DATE:20240626
DTSTAMP:20260421T164019
CREATED:20240612T204803Z
LAST-MODIFIED:20240612T204803Z
UID:10000184-1719273600-1719359999@www.saratogafire.org
SUMMARY:Santa Clara County Fire
DESCRIPTION:
URL:https://www.saratogafire.org/event/santa-clara-county-fire/2024-06-25/
LOCATION:Saratoga Community Room\, 14380 Saratoga Avenue\, Saratoga\, CA\, 95070\, United States
ORGANIZER;CN="Tiffany Thornton":MAILTO:tiffany.thornton@sccfd.org
GEO:37.259058;-122.0314999
X-APPLE-STRUCTURED-LOCATION;VALUE=URI;X-ADDRESS=Saratoga Community Room 14380 Saratoga Avenue Saratoga CA 95070 United States;X-APPLE-RADIUS=500;X-TITLE=14380 Saratoga Avenue:geo:-122.0314999,37.259058
END:VEVENT
BEGIN:VEVENT
DTSTART;TZID=America/Los_Angeles:20240618T090000
DTEND;TZID=America/Los_Angeles:20240618T110000
DTSTAMP:20260421T164019
CREATED:20240101T210247Z
LAST-MODIFIED:20240101T210247Z
UID:10000223-1718701200-1718708400@www.saratogafire.org
SUMMARY:Saratoga Fire Board Meeting
DESCRIPTION:
URL:https://www.saratogafire.org/event/saratoga-fire-board-meeting-5/2024-06-18/
LOCATION:Saratoga Community Room\, 14380 Saratoga Avenue\, Saratoga\, CA\, 95070\, United States
GEO:37.259058;-122.0314999
X-APPLE-STRUCTURED-LOCATION;VALUE=URI;X-ADDRESS=Saratoga Community Room 14380 Saratoga Avenue Saratoga CA 95070 United States;X-APPLE-RADIUS=500;X-TITLE=14380 Saratoga Avenue:geo:-122.0314999,37.259058
END:VEVENT
BEGIN:VEVENT
DTSTART;TZID=America/Los_Angeles:20240612T080000
DTEND;TZID=America/Los_Angeles:20240612T120000
DTSTAMP:20260421T164019
CREATED:20240506T161812Z
LAST-MODIFIED:20240506T161812Z
UID:10000183-1718179200-1718193600@www.saratogafire.org
SUMMARY:County Fire
DESCRIPTION:
URL:https://www.saratogafire.org/event/county-fire-9/
LOCATION:Saratoga Community Room\, 14380 Saratoga Avenue\, Saratoga\, CA\, 95070\, United States
ORGANIZER;CN="Tiffany Thornton":MAILTO:tiffany.thornton@sccfd.org
GEO:37.259058;-122.0314999
X-APPLE-STRUCTURED-LOCATION;VALUE=URI;X-ADDRESS=Saratoga Community Room 14380 Saratoga Avenue Saratoga CA 95070 United States;X-APPLE-RADIUS=500;X-TITLE=14380 Saratoga Avenue:geo:-122.0314999,37.259058
END:VEVENT
BEGIN:VEVENT
DTSTART;TZID=America/Los_Angeles:20240611T080000
DTEND;TZID=America/Los_Angeles:20240611T160000
DTSTAMP:20260421T164019
CREATED:20240506T161716Z
LAST-MODIFIED:20240506T161716Z
UID:10000182-1718092800-1718121600@www.saratogafire.org
SUMMARY:County Fire
DESCRIPTION:
URL:https://www.saratogafire.org/event/county-fire-8/
LOCATION:Saratoga Community Room\, 14380 Saratoga Avenue\, Saratoga\, CA\, 95070\, United States
ORGANIZER;CN="Tiffany Thornton":MAILTO:tiffany.thornton@sccfd.org
GEO:37.259058;-122.0314999
X-APPLE-STRUCTURED-LOCATION;VALUE=URI;X-ADDRESS=Saratoga Community Room 14380 Saratoga Avenue Saratoga CA 95070 United States;X-APPLE-RADIUS=500;X-TITLE=14380 Saratoga Avenue:geo:-122.0314999,37.259058
END:VEVENT
BEGIN:VEVENT
DTSTART;TZID=America/Los_Angeles:20240605T163000
DTEND;TZID=America/Los_Angeles:20240605T183000
DTSTAMP:20260421T164019
CREATED:20230731T185648Z
LAST-MODIFIED:20240101T203713Z
UID:10000140-1717605000-1717612200@www.saratogafire.org
SUMMARY:ROTARY CHARITABLE FOUNDATION
DESCRIPTION:
URL:https://www.saratogafire.org/event/rotary-charitable-foundation-4/
LOCATION:Saratoga Community Room\, 14380 Saratoga Avenue\, Saratoga\, CA\, 95070\, United States
ORGANIZER;CN="SANDIE PREVOT":MAILTO:charitablefoundation@saratogarotary.org
GEO:37.259058;-122.0314999
X-APPLE-STRUCTURED-LOCATION;VALUE=URI;X-ADDRESS=Saratoga Community Room 14380 Saratoga Avenue Saratoga CA 95070 United States;X-APPLE-RADIUS=500;X-TITLE=14380 Saratoga Avenue:geo:-122.0314999,37.259058
END:VEVENT
BEGIN:VEVENT
DTSTART;TZID=America/Los_Angeles:20240523T173000
DTEND;TZID=America/Los_Angeles:20240523T183000
DTSTAMP:20260421T164019
CREATED:20231023T160955Z
LAST-MODIFIED:20231114T160554Z
UID:10000134-1716485400-1716489000@www.saratogafire.org
SUMMARY:ROTARY INTERNATIONAL SERVICES COMMITTEE
DESCRIPTION:
URL:https://www.saratogafire.org/event/rotary-international-services-committee/2024-05-23/
LOCATION:Saratoga Community Room\, 14380 Saratoga Avenue\, Saratoga\, CA\, 95070\, United States
GEO:37.259058;-122.0314999
X-APPLE-STRUCTURED-LOCATION;VALUE=URI;X-ADDRESS=Saratoga Community Room 14380 Saratoga Avenue Saratoga CA 95070 United States;X-APPLE-RADIUS=500;X-TITLE=14380 Saratoga Avenue:geo:-122.0314999,37.259058
END:VEVENT
BEGIN:VEVENT
DTSTART;TZID=America/Los_Angeles:20240521T090000
DTEND;TZID=America/Los_Angeles:20240521T110000
DTSTAMP:20260421T164019
CREATED:20240101T210247Z
LAST-MODIFIED:20240101T210247Z
UID:10000222-1716282000-1716289200@www.saratogafire.org
SUMMARY:Saratoga Fire Board Meeting
DESCRIPTION:
URL:https://www.saratogafire.org/event/saratoga-fire-board-meeting-5/2024-05-21/
LOCATION:Saratoga Community Room\, 14380 Saratoga Avenue\, Saratoga\, CA\, 95070\, United States
GEO:37.259058;-122.0314999
X-APPLE-STRUCTURED-LOCATION;VALUE=URI;X-ADDRESS=Saratoga Community Room 14380 Saratoga Avenue Saratoga CA 95070 United States;X-APPLE-RADIUS=500;X-TITLE=14380 Saratoga Avenue:geo:-122.0314999,37.259058
END:VEVENT
BEGIN:VEVENT
DTSTART;TZID=America/Los_Angeles:20240520T173000
DTEND;TZID=America/Los_Angeles:20240520T183000
DTSTAMP:20260421T164019
CREATED:20230725T153910Z
LAST-MODIFIED:20230731T185835Z
UID:10000124-1716226200-1716229800@www.saratogafire.org
SUMMARY:SARATOGA ROTARY CLUB
DESCRIPTION:
URL:https://www.saratogafire.org/event/saratoga-rotary-club-2/2024-05-20/
LOCATION:CA
ORGANIZER;CN="SANDIE PREVOT":MAILTO:charitablefoundation@saratogarotary.org
END:VEVENT
BEGIN:VEVENT
DTSTART;TZID=America/Los_Angeles:20240510T080000
DTEND;TZID=America/Los_Angeles:20240510T170000
DTSTAMP:20260421T164019
CREATED:20230925T181955Z
LAST-MODIFIED:20230925T181955Z
UID:10000149-1715328000-1715360400@www.saratogafire.org
SUMMARY:MEDICALS
DESCRIPTION:
URL:https://www.saratogafire.org/event/medicals-4/2024-05-10/
LOCATION:Saratoga Community Room\, 14380 Saratoga Avenue\, Saratoga\, CA\, 95070\, United States
ORGANIZER;CN="Tiffany Thornton":MAILTO:tiffany.thornton@sccfd.org
GEO:37.259058;-122.0314999
X-APPLE-STRUCTURED-LOCATION;VALUE=URI;X-ADDRESS=Saratoga Community Room 14380 Saratoga Avenue Saratoga CA 95070 United States;X-APPLE-RADIUS=500;X-TITLE=14380 Saratoga Avenue:geo:-122.0314999,37.259058
END:VEVENT
BEGIN:VEVENT
DTSTART;TZID=America/Los_Angeles:20240509T080000
DTEND;TZID=America/Los_Angeles:20240509T170000
DTSTAMP:20260421T164019
CREATED:20230925T181903Z
LAST-MODIFIED:20230925T181903Z
UID:10000157-1715241600-1715274000@www.saratogafire.org
SUMMARY:MEDICALS
DESCRIPTION:
URL:https://www.saratogafire.org/event/medicals-3/2024-05-09/
LOCATION:Saratoga Community Room\, 14380 Saratoga Avenue\, Saratoga\, CA\, 95070\, United States
ORGANIZER;CN="Tiffany Thornton":MAILTO:tiffany.thornton@sccfd.org
GEO:37.259058;-122.0314999
X-APPLE-STRUCTURED-LOCATION;VALUE=URI;X-ADDRESS=Saratoga Community Room 14380 Saratoga Avenue Saratoga CA 95070 United States;X-APPLE-RADIUS=500;X-TITLE=14380 Saratoga Avenue:geo:-122.0314999,37.259058
END:VEVENT
BEGIN:VEVENT
DTSTART;TZID=America/Los_Angeles:20240508T080000
DTEND;TZID=America/Los_Angeles:20240508T170000
DTSTAMP:20260421T164019
CREATED:20230925T181757Z
LAST-MODIFIED:20230925T181757Z
UID:10000171-1715155200-1715187600@www.saratogafire.org
SUMMARY:MEDICALS
DESCRIPTION:
URL:https://www.saratogafire.org/event/medicals-2/2024-05-08/
LOCATION:Saratoga Community Room\, 14380 Saratoga Avenue\, Saratoga\, CA\, 95070\, United States
ORGANIZER;CN="Tiffany Thornton":MAILTO:tiffany.thornton@sccfd.org
GEO:37.259058;-122.0314999
X-APPLE-STRUCTURED-LOCATION;VALUE=URI;X-ADDRESS=Saratoga Community Room 14380 Saratoga Avenue Saratoga CA 95070 United States;X-APPLE-RADIUS=500;X-TITLE=14380 Saratoga Avenue:geo:-122.0314999,37.259058
END:VEVENT
BEGIN:VEVENT
DTSTART;TZID=America/Los_Angeles:20240507T080000
DTEND;TZID=America/Los_Angeles:20240507T170000
DTSTAMP:20260421T164019
CREATED:20230925T181517Z
LAST-MODIFIED:20230925T181517Z
UID:10000178-1715068800-1715101200@www.saratogafire.org
SUMMARY:MEDICALS
DESCRIPTION:
URL:https://www.saratogafire.org/event/medicals/2024-05-07/
LOCATION:Saratoga Community Room\, 14380 Saratoga Avenue\, Saratoga\, CA\, 95070\, United States
ORGANIZER;CN="Tiffany Thornton":MAILTO:tiffany.thornton@sccfd.org
GEO:37.259058;-122.0314999
X-APPLE-STRUCTURED-LOCATION;VALUE=URI;X-ADDRESS=Saratoga Community Room 14380 Saratoga Avenue Saratoga CA 95070 United States;X-APPLE-RADIUS=500;X-TITLE=14380 Saratoga Avenue:geo:-122.0314999,37.259058
END:VEVENT
BEGIN:VEVENT
DTSTART;TZID=America/Los_Angeles:20240506T080000
DTEND;TZID=America/Los_Angeles:20240506T170000
DTSTAMP:20260421T164019
CREATED:20230925T181126Z
LAST-MODIFIED:20230925T181126Z
UID:10000164-1714982400-1715014800@www.saratogafire.org
SUMMARY:FIRE DEPARTMENT MEDICALS
DESCRIPTION:
URL:https://www.saratogafire.org/event/fire-department-medicals/2024-05-06/
LOCATION:Saratoga Community Room\, 14380 Saratoga Avenue\, Saratoga\, CA\, 95070\, United States
ORGANIZER;CN="Tiffany Thornton":MAILTO:tiffany.thornton@sccfd.org
GEO:37.259058;-122.0314999
X-APPLE-STRUCTURED-LOCATION;VALUE=URI;X-ADDRESS=Saratoga Community Room 14380 Saratoga Avenue Saratoga CA 95070 United States;X-APPLE-RADIUS=500;X-TITLE=14380 Saratoga Avenue:geo:-122.0314999,37.259058
END:VEVENT
BEGIN:VEVENT
DTSTART;TZID=America/Los_Angeles:20240503T080000
DTEND;TZID=America/Los_Angeles:20240503T170000
DTSTAMP:20260421T164019
CREATED:20230925T181955Z
LAST-MODIFIED:20230925T181955Z
UID:10000148-1714723200-1714755600@www.saratogafire.org
SUMMARY:MEDICALS
DESCRIPTION:
URL:https://www.saratogafire.org/event/medicals-4/2024-05-03/
LOCATION:Saratoga Community Room\, 14380 Saratoga Avenue\, Saratoga\, CA\, 95070\, United States
ORGANIZER;CN="Tiffany Thornton":MAILTO:tiffany.thornton@sccfd.org
GEO:37.259058;-122.0314999
X-APPLE-STRUCTURED-LOCATION;VALUE=URI;X-ADDRESS=Saratoga Community Room 14380 Saratoga Avenue Saratoga CA 95070 United States;X-APPLE-RADIUS=500;X-TITLE=14380 Saratoga Avenue:geo:-122.0314999,37.259058
END:VEVENT
BEGIN:VEVENT
DTSTART;TZID=America/Los_Angeles:20240502T080000
DTEND;TZID=America/Los_Angeles:20240502T170000
DTSTAMP:20260421T164019
CREATED:20230925T181903Z
LAST-MODIFIED:20230925T181903Z
UID:10000156-1714636800-1714669200@www.saratogafire.org
SUMMARY:MEDICALS
DESCRIPTION:
URL:https://www.saratogafire.org/event/medicals-3/2024-05-02/
LOCATION:Saratoga Community Room\, 14380 Saratoga Avenue\, Saratoga\, CA\, 95070\, United States
ORGANIZER;CN="Tiffany Thornton":MAILTO:tiffany.thornton@sccfd.org
GEO:37.259058;-122.0314999
X-APPLE-STRUCTURED-LOCATION;VALUE=URI;X-ADDRESS=Saratoga Community Room 14380 Saratoga Avenue Saratoga CA 95070 United States;X-APPLE-RADIUS=500;X-TITLE=14380 Saratoga Avenue:geo:-122.0314999,37.259058
END:VEVENT
BEGIN:VEVENT
DTSTART;TZID=America/Los_Angeles:20240501T080000
DTEND;TZID=America/Los_Angeles:20240501T170000
DTSTAMP:20260421T164019
CREATED:20230925T181757Z
LAST-MODIFIED:20230925T181757Z
UID:10000170-1714550400-1714582800@www.saratogafire.org
SUMMARY:MEDICALS
DESCRIPTION:
URL:https://www.saratogafire.org/event/medicals-2/2024-05-01/
LOCATION:Saratoga Community Room\, 14380 Saratoga Avenue\, Saratoga\, CA\, 95070\, United States
ORGANIZER;CN="Tiffany Thornton":MAILTO:tiffany.thornton@sccfd.org
GEO:37.259058;-122.0314999
X-APPLE-STRUCTURED-LOCATION;VALUE=URI;X-ADDRESS=Saratoga Community Room 14380 Saratoga Avenue Saratoga CA 95070 United States;X-APPLE-RADIUS=500;X-TITLE=14380 Saratoga Avenue:geo:-122.0314999,37.259058
END:VEVENT
BEGIN:VEVENT
DTSTART;TZID=America/Los_Angeles:20240430T080000
DTEND;TZID=America/Los_Angeles:20240430T170000
DTSTAMP:20260421T164019
CREATED:20230925T181517Z
LAST-MODIFIED:20230925T181517Z
UID:10000177-1714464000-1714496400@www.saratogafire.org
SUMMARY:MEDICALS
DESCRIPTION:
URL:https://www.saratogafire.org/event/medicals/2024-04-30/
LOCATION:Saratoga Community Room\, 14380 Saratoga Avenue\, Saratoga\, CA\, 95070\, United States
ORGANIZER;CN="Tiffany Thornton":MAILTO:tiffany.thornton@sccfd.org
GEO:37.259058;-122.0314999
X-APPLE-STRUCTURED-LOCATION;VALUE=URI;X-ADDRESS=Saratoga Community Room 14380 Saratoga Avenue Saratoga CA 95070 United States;X-APPLE-RADIUS=500;X-TITLE=14380 Saratoga Avenue:geo:-122.0314999,37.259058
END:VEVENT
BEGIN:VEVENT
DTSTART;TZID=America/Los_Angeles:20240429T080000
DTEND;TZID=America/Los_Angeles:20240429T170000
DTSTAMP:20260421T164019
CREATED:20230925T181126Z
LAST-MODIFIED:20230925T181126Z
UID:10000163-1714377600-1714410000@www.saratogafire.org
SUMMARY:FIRE DEPARTMENT MEDICALS
DESCRIPTION:
URL:https://www.saratogafire.org/event/fire-department-medicals/2024-04-29/
LOCATION:Saratoga Community Room\, 14380 Saratoga Avenue\, Saratoga\, CA\, 95070\, United States
ORGANIZER;CN="Tiffany Thornton":MAILTO:tiffany.thornton@sccfd.org
GEO:37.259058;-122.0314999
X-APPLE-STRUCTURED-LOCATION;VALUE=URI;X-ADDRESS=Saratoga Community Room 14380 Saratoga Avenue Saratoga CA 95070 United States;X-APPLE-RADIUS=500;X-TITLE=14380 Saratoga Avenue:geo:-122.0314999,37.259058
END:VEVENT
BEGIN:VEVENT
DTSTART;TZID=America/Los_Angeles:20240426T080000
DTEND;TZID=America/Los_Angeles:20240426T170000
DTSTAMP:20260421T164019
CREATED:20230925T181955Z
LAST-MODIFIED:20230925T181955Z
UID:10000147-1714118400-1714150800@www.saratogafire.org
SUMMARY:MEDICALS
DESCRIPTION:
URL:https://www.saratogafire.org/event/medicals-4/2024-04-26/
LOCATION:Saratoga Community Room\, 14380 Saratoga Avenue\, Saratoga\, CA\, 95070\, United States
ORGANIZER;CN="Tiffany Thornton":MAILTO:tiffany.thornton@sccfd.org
GEO:37.259058;-122.0314999
X-APPLE-STRUCTURED-LOCATION;VALUE=URI;X-ADDRESS=Saratoga Community Room 14380 Saratoga Avenue Saratoga CA 95070 United States;X-APPLE-RADIUS=500;X-TITLE=14380 Saratoga Avenue:geo:-122.0314999,37.259058
END:VEVENT
BEGIN:VEVENT
DTSTART;TZID=America/Los_Angeles:20240425T173000
DTEND;TZID=America/Los_Angeles:20240425T183000
DTSTAMP:20260421T164019
CREATED:20231023T160955Z
LAST-MODIFIED:20231114T160554Z
UID:10000133-1714066200-1714069800@www.saratogafire.org
SUMMARY:ROTARY INTERNATIONAL SERVICES COMMITTEE
DESCRIPTION:
URL:https://www.saratogafire.org/event/rotary-international-services-committee/2024-04-25/
LOCATION:Saratoga Community Room\, 14380 Saratoga Avenue\, Saratoga\, CA\, 95070\, United States
GEO:37.259058;-122.0314999
X-APPLE-STRUCTURED-LOCATION;VALUE=URI;X-ADDRESS=Saratoga Community Room 14380 Saratoga Avenue Saratoga CA 95070 United States;X-APPLE-RADIUS=500;X-TITLE=14380 Saratoga Avenue:geo:-122.0314999,37.259058
END:VEVENT
BEGIN:VEVENT
DTSTART;TZID=America/Los_Angeles:20240425T080000
DTEND;TZID=America/Los_Angeles:20240425T170000
DTSTAMP:20260421T164019
CREATED:20230925T181903Z
LAST-MODIFIED:20230925T181903Z
UID:10000155-1714032000-1714064400@www.saratogafire.org
SUMMARY:MEDICALS
DESCRIPTION:
URL:https://www.saratogafire.org/event/medicals-3/2024-04-25/
LOCATION:Saratoga Community Room\, 14380 Saratoga Avenue\, Saratoga\, CA\, 95070\, United States
ORGANIZER;CN="Tiffany Thornton":MAILTO:tiffany.thornton@sccfd.org
GEO:37.259058;-122.0314999
X-APPLE-STRUCTURED-LOCATION;VALUE=URI;X-ADDRESS=Saratoga Community Room 14380 Saratoga Avenue Saratoga CA 95070 United States;X-APPLE-RADIUS=500;X-TITLE=14380 Saratoga Avenue:geo:-122.0314999,37.259058
END:VEVENT
BEGIN:VEVENT
DTSTART;TZID=America/Los_Angeles:20240424T080000
DTEND;TZID=America/Los_Angeles:20240424T170000
DTSTAMP:20260421T164019
CREATED:20230925T181757Z
LAST-MODIFIED:20230925T181757Z
UID:10000169-1713945600-1713978000@www.saratogafire.org
SUMMARY:MEDICALS
DESCRIPTION:
URL:https://www.saratogafire.org/event/medicals-2/2024-04-24/
LOCATION:Saratoga Community Room\, 14380 Saratoga Avenue\, Saratoga\, CA\, 95070\, United States
ORGANIZER;CN="Tiffany Thornton":MAILTO:tiffany.thornton@sccfd.org
GEO:37.259058;-122.0314999
X-APPLE-STRUCTURED-LOCATION;VALUE=URI;X-ADDRESS=Saratoga Community Room 14380 Saratoga Avenue Saratoga CA 95070 United States;X-APPLE-RADIUS=500;X-TITLE=14380 Saratoga Avenue:geo:-122.0314999,37.259058
END:VEVENT
BEGIN:VEVENT
DTSTART;TZID=America/Los_Angeles:20240423T080000
DTEND;TZID=America/Los_Angeles:20240423T170000
DTSTAMP:20260421T164019
CREATED:20230925T181517Z
LAST-MODIFIED:20230925T181517Z
UID:10000176-1713859200-1713891600@www.saratogafire.org
SUMMARY:MEDICALS
DESCRIPTION:
URL:https://www.saratogafire.org/event/medicals/2024-04-23/
LOCATION:Saratoga Community Room\, 14380 Saratoga Avenue\, Saratoga\, CA\, 95070\, United States
ORGANIZER;CN="Tiffany Thornton":MAILTO:tiffany.thornton@sccfd.org
GEO:37.259058;-122.0314999
X-APPLE-STRUCTURED-LOCATION;VALUE=URI;X-ADDRESS=Saratoga Community Room 14380 Saratoga Avenue Saratoga CA 95070 United States;X-APPLE-RADIUS=500;X-TITLE=14380 Saratoga Avenue:geo:-122.0314999,37.259058
END:VEVENT
BEGIN:VEVENT
DTSTART;TZID=America/Los_Angeles:20240422T080000
DTEND;TZID=America/Los_Angeles:20240422T170000
DTSTAMP:20260421T164019
CREATED:20230925T181126Z
LAST-MODIFIED:20230925T181126Z
UID:10000162-1713772800-1713805200@www.saratogafire.org
SUMMARY:FIRE DEPARTMENT MEDICALS
DESCRIPTION:
URL:https://www.saratogafire.org/event/fire-department-medicals/2024-04-22/
LOCATION:Saratoga Community Room\, 14380 Saratoga Avenue\, Saratoga\, CA\, 95070\, United States
ORGANIZER;CN="Tiffany Thornton":MAILTO:tiffany.thornton@sccfd.org
GEO:37.259058;-122.0314999
X-APPLE-STRUCTURED-LOCATION;VALUE=URI;X-ADDRESS=Saratoga Community Room 14380 Saratoga Avenue Saratoga CA 95070 United States;X-APPLE-RADIUS=500;X-TITLE=14380 Saratoga Avenue:geo:-122.0314999,37.259058
END:VEVENT
BEGIN:VEVENT
DTSTART;TZID=America/Los_Angeles:20240419T080000
DTEND;TZID=America/Los_Angeles:20240419T170000
DTSTAMP:20260421T164019
CREATED:20230925T181955Z
LAST-MODIFIED:20230925T181955Z
UID:10000146-1713513600-1713546000@www.saratogafire.org
SUMMARY:MEDICALS
DESCRIPTION:
URL:https://www.saratogafire.org/event/medicals-4/2024-04-19/
LOCATION:Saratoga Community Room\, 14380 Saratoga Avenue\, Saratoga\, CA\, 95070\, United States
ORGANIZER;CN="Tiffany Thornton":MAILTO:tiffany.thornton@sccfd.org
GEO:37.259058;-122.0314999
X-APPLE-STRUCTURED-LOCATION;VALUE=URI;X-ADDRESS=Saratoga Community Room 14380 Saratoga Avenue Saratoga CA 95070 United States;X-APPLE-RADIUS=500;X-TITLE=14380 Saratoga Avenue:geo:-122.0314999,37.259058
END:VEVENT
BEGIN:VEVENT
DTSTART;TZID=America/Los_Angeles:20240418T080000
DTEND;TZID=America/Los_Angeles:20240418T170000
DTSTAMP:20260421T164019
CREATED:20230925T181903Z
LAST-MODIFIED:20230925T181903Z
UID:10000154-1713427200-1713459600@www.saratogafire.org
SUMMARY:MEDICALS
DESCRIPTION:
URL:https://www.saratogafire.org/event/medicals-3/2024-04-18/
LOCATION:Saratoga Community Room\, 14380 Saratoga Avenue\, Saratoga\, CA\, 95070\, United States
ORGANIZER;CN="Tiffany Thornton":MAILTO:tiffany.thornton@sccfd.org
GEO:37.259058;-122.0314999
X-APPLE-STRUCTURED-LOCATION;VALUE=URI;X-ADDRESS=Saratoga Community Room 14380 Saratoga Avenue Saratoga CA 95070 United States;X-APPLE-RADIUS=500;X-TITLE=14380 Saratoga Avenue:geo:-122.0314999,37.259058
END:VEVENT
BEGIN:VEVENT
DTSTART;TZID=America/Los_Angeles:20240417T080000
DTEND;TZID=America/Los_Angeles:20240417T170000
DTSTAMP:20260421T164019
CREATED:20230925T181757Z
LAST-MODIFIED:20230925T181757Z
UID:10000168-1713340800-1713373200@www.saratogafire.org
SUMMARY:MEDICALS
DESCRIPTION:
URL:https://www.saratogafire.org/event/medicals-2/2024-04-17/
LOCATION:Saratoga Community Room\, 14380 Saratoga Avenue\, Saratoga\, CA\, 95070\, United States
ORGANIZER;CN="Tiffany Thornton":MAILTO:tiffany.thornton@sccfd.org
GEO:37.259058;-122.0314999
X-APPLE-STRUCTURED-LOCATION;VALUE=URI;X-ADDRESS=Saratoga Community Room 14380 Saratoga Avenue Saratoga CA 95070 United States;X-APPLE-RADIUS=500;X-TITLE=14380 Saratoga Avenue:geo:-122.0314999,37.259058
END:VEVENT
BEGIN:VEVENT
DTSTART;TZID=America/Los_Angeles:20240416T090000
DTEND;TZID=America/Los_Angeles:20240416T110000
DTSTAMP:20260421T164019
CREATED:20240101T210247Z
LAST-MODIFIED:20240101T210247Z
UID:10000221-1713258000-1713265200@www.saratogafire.org
SUMMARY:Saratoga Fire Board Meeting
DESCRIPTION:
URL:https://www.saratogafire.org/event/saratoga-fire-board-meeting-5/2024-04-16/
LOCATION:Saratoga Community Room\, 14380 Saratoga Avenue\, Saratoga\, CA\, 95070\, United States
GEO:37.259058;-122.0314999
X-APPLE-STRUCTURED-LOCATION;VALUE=URI;X-ADDRESS=Saratoga Community Room 14380 Saratoga Avenue Saratoga CA 95070 United States;X-APPLE-RADIUS=500;X-TITLE=14380 Saratoga Avenue:geo:-122.0314999,37.259058
END:VEVENT
BEGIN:VEVENT
DTSTART;TZID=America/Los_Angeles:20240416T080000
DTEND;TZID=America/Los_Angeles:20240416T170000
DTSTAMP:20260421T164019
CREATED:20230925T181517Z
LAST-MODIFIED:20230925T181517Z
UID:10000175-1713254400-1713286800@www.saratogafire.org
SUMMARY:MEDICALS
DESCRIPTION:
URL:https://www.saratogafire.org/event/medicals/2024-04-16/
LOCATION:Saratoga Community Room\, 14380 Saratoga Avenue\, Saratoga\, CA\, 95070\, United States
ORGANIZER;CN="Tiffany Thornton":MAILTO:tiffany.thornton@sccfd.org
GEO:37.259058;-122.0314999
X-APPLE-STRUCTURED-LOCATION;VALUE=URI;X-ADDRESS=Saratoga Community Room 14380 Saratoga Avenue Saratoga CA 95070 United States;X-APPLE-RADIUS=500;X-TITLE=14380 Saratoga Avenue:geo:-122.0314999,37.259058
END:VEVENT
END:VCALENDAR