BEGIN:VCALENDAR
VERSION:2.0
PRODID:-//Saratoga Fire District - ECPv6.15.20//NONSGML v1.0//EN
CALSCALE:GREGORIAN
METHOD:PUBLISH
X-WR-CALNAME:Saratoga Fire District
X-ORIGINAL-URL:https://www.saratogafire.org
X-WR-CALDESC:Events for Saratoga Fire District
REFRESH-INTERVAL;VALUE=DURATION:PT1H
X-Robots-Tag:noindex
X-PUBLISHED-TTL:PT1H
BEGIN:VTIMEZONE
TZID:America/Los_Angeles
BEGIN:DAYLIGHT
TZOFFSETFROM:-0800
TZOFFSETTO:-0700
TZNAME:PDT
DTSTART:20210314T100000
END:DAYLIGHT
BEGIN:STANDARD
TZOFFSETFROM:-0700
TZOFFSETTO:-0800
TZNAME:PST
DTSTART:20211107T090000
END:STANDARD
BEGIN:DAYLIGHT
TZOFFSETFROM:-0800
TZOFFSETTO:-0700
TZNAME:PDT
DTSTART:20220313T100000
END:DAYLIGHT
BEGIN:STANDARD
TZOFFSETFROM:-0700
TZOFFSETTO:-0800
TZNAME:PST
DTSTART:20221106T090000
END:STANDARD
BEGIN:DAYLIGHT
TZOFFSETFROM:-0800
TZOFFSETTO:-0700
TZNAME:PDT
DTSTART:20230312T100000
END:DAYLIGHT
BEGIN:STANDARD
TZOFFSETFROM:-0700
TZOFFSETTO:-0800
TZNAME:PST
DTSTART:20231105T090000
END:STANDARD
BEGIN:DAYLIGHT
TZOFFSETFROM:-0800
TZOFFSETTO:-0700
TZNAME:PDT
DTSTART:20240310T100000
END:DAYLIGHT
BEGIN:STANDARD
TZOFFSETFROM:-0700
TZOFFSETTO:-0800
TZNAME:PST
DTSTART:20241103T090000
END:STANDARD
END:VTIMEZONE
BEGIN:VEVENT
DTSTART;TZID=America/Los_Angeles:20220803T193000
DTEND;TZID=America/Los_Angeles:20220803T210000
DTSTAMP:20260421T032535
CREATED:20220404T200545Z
LAST-MODIFIED:20220404T201435Z
UID:10000039-1659555000-1659560400@www.saratogafire.org
SUMMARY:Ham Radio Operators
DESCRIPTION:
URL:https://www.saratogafire.org/event/ham-radio-operators-2022-07-06/2022-08-03/
LOCATION:Saratoga Community Room\, 14380 Saratoga Avenue\, Saratoga\, CA\, 95070\, United States
GEO:37.259058;-122.0314999
X-APPLE-STRUCTURED-LOCATION;VALUE=URI;X-ADDRESS=Saratoga Community Room 14380 Saratoga Avenue Saratoga CA 95070 United States;X-APPLE-RADIUS=500;X-TITLE=14380 Saratoga Avenue:geo:-122.0314999,37.259058
END:VEVENT
BEGIN:VEVENT
DTSTART;TZID=America/Los_Angeles:20220907T193000
DTEND;TZID=America/Los_Angeles:20220907T210000
DTSTAMP:20260421T032535
CREATED:20220404T200545Z
LAST-MODIFIED:20220404T201435Z
UID:10000040-1662579000-1662584400@www.saratogafire.org
SUMMARY:Ham Radio Operators
DESCRIPTION:
URL:https://www.saratogafire.org/event/ham-radio-operators-2022-07-06/2022-09-07/
LOCATION:Saratoga Community Room\, 14380 Saratoga Avenue\, Saratoga\, CA\, 95070\, United States
GEO:37.259058;-122.0314999
X-APPLE-STRUCTURED-LOCATION;VALUE=URI;X-ADDRESS=Saratoga Community Room 14380 Saratoga Avenue Saratoga CA 95070 United States;X-APPLE-RADIUS=500;X-TITLE=14380 Saratoga Avenue:geo:-122.0314999,37.259058
END:VEVENT
BEGIN:VEVENT
DTSTART;TZID=America/Los_Angeles:20221005T193000
DTEND;TZID=America/Los_Angeles:20221005T210000
DTSTAMP:20260421T032535
CREATED:20220404T200545Z
LAST-MODIFIED:20220404T201435Z
UID:10000041-1664998200-1665003600@www.saratogafire.org
SUMMARY:Ham Radio Operators
DESCRIPTION:
URL:https://www.saratogafire.org/event/ham-radio-operators-2022-07-06/2022-10-05/
LOCATION:Saratoga Community Room\, 14380 Saratoga Avenue\, Saratoga\, CA\, 95070\, United States
GEO:37.259058;-122.0314999
X-APPLE-STRUCTURED-LOCATION;VALUE=URI;X-ADDRESS=Saratoga Community Room 14380 Saratoga Avenue Saratoga CA 95070 United States;X-APPLE-RADIUS=500;X-TITLE=14380 Saratoga Avenue:geo:-122.0314999,37.259058
END:VEVENT
BEGIN:VEVENT
DTSTART;TZID=America/Los_Angeles:20221102T193000
DTEND;TZID=America/Los_Angeles:20221102T210000
DTSTAMP:20260421T032535
CREATED:20220404T200545Z
LAST-MODIFIED:20220404T201435Z
UID:10000042-1667417400-1667422800@www.saratogafire.org
SUMMARY:Ham Radio Operators
DESCRIPTION:
URL:https://www.saratogafire.org/event/ham-radio-operators-2022-07-06/2022-11-02/
LOCATION:Saratoga Community Room\, 14380 Saratoga Avenue\, Saratoga\, CA\, 95070\, United States
GEO:37.259058;-122.0314999
X-APPLE-STRUCTURED-LOCATION;VALUE=URI;X-ADDRESS=Saratoga Community Room 14380 Saratoga Avenue Saratoga CA 95070 United States;X-APPLE-RADIUS=500;X-TITLE=14380 Saratoga Avenue:geo:-122.0314999,37.259058
END:VEVENT
BEGIN:VEVENT
DTSTART;TZID=America/Los_Angeles:20221206T080000
DTEND;TZID=America/Los_Angeles:20221206T170000
DTSTAMP:20260421T032535
CREATED:20220928T184836Z
LAST-MODIFIED:20220928T184836Z
UID:10000031-1670313600-1670346000@www.saratogafire.org
SUMMARY:County Fire A-Staff Meeting
DESCRIPTION:
URL:https://www.saratogafire.org/event/county-fire-a-staff-meeting/2022-12-06/
LOCATION:Saratoga Community Room\, 14380 Saratoga Avenue\, Saratoga\, CA\, 95070\, United States
GEO:37.259058;-122.0314999
X-APPLE-STRUCTURED-LOCATION;VALUE=URI;X-ADDRESS=Saratoga Community Room 14380 Saratoga Avenue Saratoga CA 95070 United States;X-APPLE-RADIUS=500;X-TITLE=14380 Saratoga Avenue:geo:-122.0314999,37.259058
END:VEVENT
BEGIN:VEVENT
DTSTART;TZID=America/Los_Angeles:20221207T080000
DTEND;TZID=America/Los_Angeles:20221207T170000
DTSTAMP:20260421T032535
CREATED:20220928T184836Z
LAST-MODIFIED:20220928T184836Z
UID:10000032-1670400000-1670432400@www.saratogafire.org
SUMMARY:County Fire A-Staff Meeting
DESCRIPTION:
URL:https://www.saratogafire.org/event/county-fire-a-staff-meeting/2022-12-07/
LOCATION:Saratoga Community Room\, 14380 Saratoga Avenue\, Saratoga\, CA\, 95070\, United States
GEO:37.259058;-122.0314999
X-APPLE-STRUCTURED-LOCATION;VALUE=URI;X-ADDRESS=Saratoga Community Room 14380 Saratoga Avenue Saratoga CA 95070 United States;X-APPLE-RADIUS=500;X-TITLE=14380 Saratoga Avenue:geo:-122.0314999,37.259058
END:VEVENT
BEGIN:VEVENT
DTSTART;TZID=America/Los_Angeles:20221207T193000
DTEND;TZID=America/Los_Angeles:20221207T210000
DTSTAMP:20260421T032535
CREATED:20220404T200545Z
LAST-MODIFIED:20220404T201435Z
UID:10000043-1670441400-1670446800@www.saratogafire.org
SUMMARY:Ham Radio Operators
DESCRIPTION:
URL:https://www.saratogafire.org/event/ham-radio-operators-2022-07-06/2022-12-07/
LOCATION:Saratoga Community Room\, 14380 Saratoga Avenue\, Saratoga\, CA\, 95070\, United States
GEO:37.259058;-122.0314999
X-APPLE-STRUCTURED-LOCATION;VALUE=URI;X-ADDRESS=Saratoga Community Room 14380 Saratoga Avenue Saratoga CA 95070 United States;X-APPLE-RADIUS=500;X-TITLE=14380 Saratoga Avenue:geo:-122.0314999,37.259058
END:VEVENT
BEGIN:VEVENT
DTSTART;TZID=America/Los_Angeles:20221213T090000
DTEND;TZID=America/Los_Angeles:20221213T120000
DTSTAMP:20260421T032535
CREATED:20221121T165757Z
LAST-MODIFIED:20221121T165757Z
UID:10000029-1670922000-1670932800@www.saratogafire.org
SUMMARY:Board of Commissioners Meeting
DESCRIPTION:
URL:https://www.saratogafire.org/event/board-of-commissioners-meeting/
LOCATION:Saratoga Community Room\, 14380 Saratoga Avenue\, Saratoga\, CA\, 95070\, United States
GEO:37.259058;-122.0314999
X-APPLE-STRUCTURED-LOCATION;VALUE=URI;X-ADDRESS=Saratoga Community Room 14380 Saratoga Avenue Saratoga CA 95070 United States;X-APPLE-RADIUS=500;X-TITLE=14380 Saratoga Avenue:geo:-122.0314999,37.259058
END:VEVENT
BEGIN:VEVENT
DTSTART;TZID=America/Los_Angeles:20230104T193000
DTEND;TZID=America/Los_Angeles:20230104T210000
DTSTAMP:20260421T032535
CREATED:20230109T175912Z
LAST-MODIFIED:20230109T175912Z
UID:10000065-1672860600-1672866000@www.saratogafire.org
SUMMARY:SARATOGA AMATEUR RADIO ASSOCIATION
DESCRIPTION:
URL:https://www.saratogafire.org/event/saratoga-amateur-radio-association-2/2023-01-04/
LOCATION:Saratoga Community Room\, 14380 Saratoga Avenue\, Saratoga\, CA\, 95070\, United States
GEO:37.259058;-122.0314999
X-APPLE-STRUCTURED-LOCATION;VALUE=URI;X-ADDRESS=Saratoga Community Room 14380 Saratoga Avenue Saratoga CA 95070 United States;X-APPLE-RADIUS=500;X-TITLE=14380 Saratoga Avenue:geo:-122.0314999,37.259058
END:VEVENT
BEGIN:VEVENT
DTSTART;TZID=America/Los_Angeles:20230104T193000
DTEND;TZID=America/Los_Angeles:20230104T210000
DTSTAMP:20260421T032535
CREATED:20220404T200545Z
LAST-MODIFIED:20220404T201435Z
UID:10000044-1672860600-1672866000@www.saratogafire.org
SUMMARY:Ham Radio Operators
DESCRIPTION:
URL:https://www.saratogafire.org/event/ham-radio-operators-2022-07-06/2023-01-04/
LOCATION:Saratoga Community Room\, 14380 Saratoga Avenue\, Saratoga\, CA\, 95070\, United States
GEO:37.259058;-122.0314999
X-APPLE-STRUCTURED-LOCATION;VALUE=URI;X-ADDRESS=Saratoga Community Room 14380 Saratoga Avenue Saratoga CA 95070 United States;X-APPLE-RADIUS=500;X-TITLE=14380 Saratoga Avenue:geo:-122.0314999,37.259058
END:VEVENT
BEGIN:VEVENT
DTSTART;TZID=America/Los_Angeles:20230124T090000
DTEND;TZID=America/Los_Angeles:20230124T130000
DTSTAMP:20260421T032535
CREATED:20221219T171458Z
LAST-MODIFIED:20221219T171458Z
UID:10000064-1674550800-1674565200@www.saratogafire.org
SUMMARY:County Fire
DESCRIPTION:
URL:https://www.saratogafire.org/event/county-fire-5/
LOCATION:Saratoga Community Room\, 14380 Saratoga Avenue\, Saratoga\, CA\, 95070\, United States
GEO:37.259058;-122.0314999
X-APPLE-STRUCTURED-LOCATION;VALUE=URI;X-ADDRESS=Saratoga Community Room 14380 Saratoga Avenue Saratoga CA 95070 United States;X-APPLE-RADIUS=500;X-TITLE=14380 Saratoga Avenue:geo:-122.0314999,37.259058
END:VEVENT
BEGIN:VEVENT
DTSTART;TZID=America/Los_Angeles:20230130T090000
DTEND;TZID=America/Los_Angeles:20230130T140000
DTSTAMP:20260421T032535
CREATED:20221213T205847Z
LAST-MODIFIED:20221213T210054Z
UID:10000050-1675069200-1675087200@www.saratogafire.org
SUMMARY:County Fire
DESCRIPTION:
URL:https://www.saratogafire.org/event/county-fire/2023-01-30/
LOCATION:Saratoga Community Room\, 14380 Saratoga Avenue\, Saratoga\, CA\, 95070\, United States
GEO:37.259058;-122.0314999
X-APPLE-STRUCTURED-LOCATION;VALUE=URI;X-ADDRESS=Saratoga Community Room 14380 Saratoga Avenue Saratoga CA 95070 United States;X-APPLE-RADIUS=500;X-TITLE=14380 Saratoga Avenue:geo:-122.0314999,37.259058
END:VEVENT
BEGIN:VEVENT
DTSTART;TZID=America/Los_Angeles:20230131T090000
DTEND;TZID=America/Los_Angeles:20230131T140000
DTSTAMP:20260421T032535
CREATED:20221213T205847Z
LAST-MODIFIED:20221213T210054Z
UID:10000051-1675155600-1675173600@www.saratogafire.org
SUMMARY:County Fire
DESCRIPTION:
URL:https://www.saratogafire.org/event/county-fire/2023-01-31/
LOCATION:Saratoga Community Room\, 14380 Saratoga Avenue\, Saratoga\, CA\, 95070\, United States
GEO:37.259058;-122.0314999
X-APPLE-STRUCTURED-LOCATION;VALUE=URI;X-ADDRESS=Saratoga Community Room 14380 Saratoga Avenue Saratoga CA 95070 United States;X-APPLE-RADIUS=500;X-TITLE=14380 Saratoga Avenue:geo:-122.0314999,37.259058
END:VEVENT
BEGIN:VEVENT
DTSTART;TZID=America/Los_Angeles:20230201T090000
DTEND;TZID=America/Los_Angeles:20230201T140000
DTSTAMP:20260421T032535
CREATED:20221213T205847Z
LAST-MODIFIED:20221213T210054Z
UID:10000052-1675242000-1675260000@www.saratogafire.org
SUMMARY:County Fire
DESCRIPTION:
URL:https://www.saratogafire.org/event/county-fire/2023-02-01/
LOCATION:Saratoga Community Room\, 14380 Saratoga Avenue\, Saratoga\, CA\, 95070\, United States
GEO:37.259058;-122.0314999
X-APPLE-STRUCTURED-LOCATION;VALUE=URI;X-ADDRESS=Saratoga Community Room 14380 Saratoga Avenue Saratoga CA 95070 United States;X-APPLE-RADIUS=500;X-TITLE=14380 Saratoga Avenue:geo:-122.0314999,37.259058
END:VEVENT
BEGIN:VEVENT
DTSTART;TZID=America/Los_Angeles:20230201T193000
DTEND;TZID=America/Los_Angeles:20230201T210000
DTSTAMP:20260421T032535
CREATED:20230109T175912Z
LAST-MODIFIED:20230109T175912Z
UID:10000066-1675279800-1675285200@www.saratogafire.org
SUMMARY:SARATOGA AMATEUR RADIO ASSOCIATION
DESCRIPTION:
URL:https://www.saratogafire.org/event/saratoga-amateur-radio-association-2/2023-02-01/
LOCATION:Saratoga Community Room\, 14380 Saratoga Avenue\, Saratoga\, CA\, 95070\, United States
GEO:37.259058;-122.0314999
X-APPLE-STRUCTURED-LOCATION;VALUE=URI;X-ADDRESS=Saratoga Community Room 14380 Saratoga Avenue Saratoga CA 95070 United States;X-APPLE-RADIUS=500;X-TITLE=14380 Saratoga Avenue:geo:-122.0314999,37.259058
END:VEVENT
BEGIN:VEVENT
DTSTART;TZID=America/Los_Angeles:20230202T090000
DTEND;TZID=America/Los_Angeles:20230202T140000
DTSTAMP:20260421T032535
CREATED:20221213T205847Z
LAST-MODIFIED:20221213T210054Z
UID:10000053-1675328400-1675346400@www.saratogafire.org
SUMMARY:County Fire
DESCRIPTION:
URL:https://www.saratogafire.org/event/county-fire/2023-02-02/
LOCATION:Saratoga Community Room\, 14380 Saratoga Avenue\, Saratoga\, CA\, 95070\, United States
GEO:37.259058;-122.0314999
X-APPLE-STRUCTURED-LOCATION;VALUE=URI;X-ADDRESS=Saratoga Community Room 14380 Saratoga Avenue Saratoga CA 95070 United States;X-APPLE-RADIUS=500;X-TITLE=14380 Saratoga Avenue:geo:-122.0314999,37.259058
END:VEVENT
BEGIN:VEVENT
DTSTART;TZID=America/Los_Angeles:20230206T090000
DTEND;TZID=America/Los_Angeles:20230206T140000
DTSTAMP:20260421T032535
CREATED:20221213T210345Z
LAST-MODIFIED:20221213T210345Z
UID:10000054-1675674000-1675692000@www.saratogafire.org
SUMMARY:County Fire
DESCRIPTION:
URL:https://www.saratogafire.org/event/county-fire-2/2023-02-06/
LOCATION:Saratoga Community Room\, 14380 Saratoga Avenue\, Saratoga\, CA\, 95070\, United States
GEO:37.259058;-122.0314999
X-APPLE-STRUCTURED-LOCATION;VALUE=URI;X-ADDRESS=Saratoga Community Room 14380 Saratoga Avenue Saratoga CA 95070 United States;X-APPLE-RADIUS=500;X-TITLE=14380 Saratoga Avenue:geo:-122.0314999,37.259058
END:VEVENT
BEGIN:VEVENT
DTSTART;TZID=America/Los_Angeles:20230207T090000
DTEND;TZID=America/Los_Angeles:20230207T140000
DTSTAMP:20260421T032535
CREATED:20221213T210345Z
LAST-MODIFIED:20221213T210345Z
UID:10000055-1675760400-1675778400@www.saratogafire.org
SUMMARY:County Fire
DESCRIPTION:
URL:https://www.saratogafire.org/event/county-fire-2/2023-02-07/
LOCATION:Saratoga Community Room\, 14380 Saratoga Avenue\, Saratoga\, CA\, 95070\, United States
GEO:37.259058;-122.0314999
X-APPLE-STRUCTURED-LOCATION;VALUE=URI;X-ADDRESS=Saratoga Community Room 14380 Saratoga Avenue Saratoga CA 95070 United States;X-APPLE-RADIUS=500;X-TITLE=14380 Saratoga Avenue:geo:-122.0314999,37.259058
END:VEVENT
BEGIN:VEVENT
DTSTART;TZID=America/Los_Angeles:20230208T090000
DTEND;TZID=America/Los_Angeles:20230208T140000
DTSTAMP:20260421T032535
CREATED:20221213T210345Z
LAST-MODIFIED:20221213T210345Z
UID:10000056-1675846800-1675864800@www.saratogafire.org
SUMMARY:County Fire
DESCRIPTION:
URL:https://www.saratogafire.org/event/county-fire-2/2023-02-08/
LOCATION:Saratoga Community Room\, 14380 Saratoga Avenue\, Saratoga\, CA\, 95070\, United States
GEO:37.259058;-122.0314999
X-APPLE-STRUCTURED-LOCATION;VALUE=URI;X-ADDRESS=Saratoga Community Room 14380 Saratoga Avenue Saratoga CA 95070 United States;X-APPLE-RADIUS=500;X-TITLE=14380 Saratoga Avenue:geo:-122.0314999,37.259058
END:VEVENT
BEGIN:VEVENT
DTSTART;TZID=America/Los_Angeles:20230208T180000
DTEND;TZID=America/Los_Angeles:20230208T210000
DTSTAMP:20260421T032535
CREATED:20230123T162432Z
LAST-MODIFIED:20230123T192249Z
UID:10000088-1675879200-1675890000@www.saratogafire.org
SUMMARY:South Bay Soaring
DESCRIPTION:
URL:https://www.saratogafire.org/event/south-bay-soaring/
LOCATION:Saratoga Community Room\, 14380 Saratoga Avenue\, Saratoga\, CA\, 95070\, United States
GEO:37.259058;-122.0314999
X-APPLE-STRUCTURED-LOCATION;VALUE=URI;X-ADDRESS=Saratoga Community Room 14380 Saratoga Avenue Saratoga CA 95070 United States;X-APPLE-RADIUS=500;X-TITLE=14380 Saratoga Avenue:geo:-122.0314999,37.259058
END:VEVENT
BEGIN:VEVENT
DTSTART;TZID=America/Los_Angeles:20230209T090000
DTEND;TZID=America/Los_Angeles:20230209T140000
DTSTAMP:20260421T032535
CREATED:20221213T210345Z
LAST-MODIFIED:20221213T210345Z
UID:10000057-1675933200-1675951200@www.saratogafire.org
SUMMARY:County Fire
DESCRIPTION:
URL:https://www.saratogafire.org/event/county-fire-2/2023-02-09/
LOCATION:Saratoga Community Room\, 14380 Saratoga Avenue\, Saratoga\, CA\, 95070\, United States
GEO:37.259058;-122.0314999
X-APPLE-STRUCTURED-LOCATION;VALUE=URI;X-ADDRESS=Saratoga Community Room 14380 Saratoga Avenue Saratoga CA 95070 United States;X-APPLE-RADIUS=500;X-TITLE=14380 Saratoga Avenue:geo:-122.0314999,37.259058
END:VEVENT
BEGIN:VEVENT
DTSTART;TZID=America/Los_Angeles:20230227T090000
DTEND;TZID=America/Los_Angeles:20230227T140000
DTSTAMP:20260421T032535
CREATED:20221213T210531Z
LAST-MODIFIED:20221213T210531Z
UID:10000058-1677488400-1677506400@www.saratogafire.org
SUMMARY:County Fire
DESCRIPTION:
URL:https://www.saratogafire.org/event/county-fire-3/2023-02-27/
LOCATION:Saratoga Community Room\, 14380 Saratoga Avenue\, Saratoga\, CA\, 95070\, United States
GEO:37.259058;-122.0314999
X-APPLE-STRUCTURED-LOCATION;VALUE=URI;X-ADDRESS=Saratoga Community Room 14380 Saratoga Avenue Saratoga CA 95070 United States;X-APPLE-RADIUS=500;X-TITLE=14380 Saratoga Avenue:geo:-122.0314999,37.259058
END:VEVENT
BEGIN:VEVENT
DTSTART;TZID=America/Los_Angeles:20230228T090000
DTEND;TZID=America/Los_Angeles:20230228T140000
DTSTAMP:20260421T032535
CREATED:20221213T210531Z
LAST-MODIFIED:20221213T210531Z
UID:10000059-1677574800-1677592800@www.saratogafire.org
SUMMARY:County Fire
DESCRIPTION:
URL:https://www.saratogafire.org/event/county-fire-3/2023-02-28/
LOCATION:Saratoga Community Room\, 14380 Saratoga Avenue\, Saratoga\, CA\, 95070\, United States
GEO:37.259058;-122.0314999
X-APPLE-STRUCTURED-LOCATION;VALUE=URI;X-ADDRESS=Saratoga Community Room 14380 Saratoga Avenue Saratoga CA 95070 United States;X-APPLE-RADIUS=500;X-TITLE=14380 Saratoga Avenue:geo:-122.0314999,37.259058
END:VEVENT
BEGIN:VEVENT
DTSTART;TZID=America/Los_Angeles:20230301T090000
DTEND;TZID=America/Los_Angeles:20230301T120000
DTSTAMP:20260421T032535
CREATED:20230220T175933Z
LAST-MODIFIED:20230220T175933Z
UID:10000109-1677661200-1677672000@www.saratogafire.org
SUMMARY:Union Meeting
DESCRIPTION:
URL:https://www.saratogafire.org/event/union-meeting/
LOCATION:Saratoga Community Room\, 14380 Saratoga Avenue\, Saratoga\, CA\, 95070\, United States
GEO:37.259058;-122.0314999
X-APPLE-STRUCTURED-LOCATION;VALUE=URI;X-ADDRESS=Saratoga Community Room 14380 Saratoga Avenue Saratoga CA 95070 United States;X-APPLE-RADIUS=500;X-TITLE=14380 Saratoga Avenue:geo:-122.0314999,37.259058
END:VEVENT
BEGIN:VEVENT
DTSTART;TZID=America/Los_Angeles:20230301T193000
DTEND;TZID=America/Los_Angeles:20230301T210000
DTSTAMP:20260421T032535
CREATED:20230109T175912Z
LAST-MODIFIED:20230109T175912Z
UID:10000067-1677699000-1677704400@www.saratogafire.org
SUMMARY:SARATOGA AMATEUR RADIO ASSOCIATION
DESCRIPTION:
URL:https://www.saratogafire.org/event/saratoga-amateur-radio-association-2/2023-03-01/
LOCATION:Saratoga Community Room\, 14380 Saratoga Avenue\, Saratoga\, CA\, 95070\, United States
GEO:37.259058;-122.0314999
X-APPLE-STRUCTURED-LOCATION;VALUE=URI;X-ADDRESS=Saratoga Community Room 14380 Saratoga Avenue Saratoga CA 95070 United States;X-APPLE-RADIUS=500;X-TITLE=14380 Saratoga Avenue:geo:-122.0314999,37.259058
END:VEVENT
BEGIN:VEVENT
DTSTART;TZID=America/Los_Angeles:20230306T090000
DTEND;TZID=America/Los_Angeles:20230306T140000
DTSTAMP:20260421T032535
CREATED:20221213T210650Z
LAST-MODIFIED:20221213T210650Z
UID:10000060-1678093200-1678111200@www.saratogafire.org
SUMMARY:County Fire
DESCRIPTION:
URL:https://www.saratogafire.org/event/county-fire-4/2023-03-06/
LOCATION:Saratoga Community Room\, 14380 Saratoga Avenue\, Saratoga\, CA\, 95070\, United States
GEO:37.259058;-122.0314999
X-APPLE-STRUCTURED-LOCATION;VALUE=URI;X-ADDRESS=Saratoga Community Room 14380 Saratoga Avenue Saratoga CA 95070 United States;X-APPLE-RADIUS=500;X-TITLE=14380 Saratoga Avenue:geo:-122.0314999,37.259058
END:VEVENT
BEGIN:VEVENT
DTSTART;TZID=America/Los_Angeles:20230307T090000
DTEND;TZID=America/Los_Angeles:20230307T140000
DTSTAMP:20260421T032535
CREATED:20221213T210650Z
LAST-MODIFIED:20221213T210650Z
UID:10000061-1678179600-1678197600@www.saratogafire.org
SUMMARY:County Fire
DESCRIPTION:
URL:https://www.saratogafire.org/event/county-fire-4/2023-03-07/
LOCATION:Saratoga Community Room\, 14380 Saratoga Avenue\, Saratoga\, CA\, 95070\, United States
GEO:37.259058;-122.0314999
X-APPLE-STRUCTURED-LOCATION;VALUE=URI;X-ADDRESS=Saratoga Community Room 14380 Saratoga Avenue Saratoga CA 95070 United States;X-APPLE-RADIUS=500;X-TITLE=14380 Saratoga Avenue:geo:-122.0314999,37.259058
END:VEVENT
BEGIN:VEVENT
DTSTART;TZID=America/Los_Angeles:20230405T193000
DTEND;TZID=America/Los_Angeles:20230405T210000
DTSTAMP:20260421T032535
CREATED:20230109T175912Z
LAST-MODIFIED:20230109T175912Z
UID:10000068-1680723000-1680728400@www.saratogafire.org
SUMMARY:SARATOGA AMATEUR RADIO ASSOCIATION
DESCRIPTION:
URL:https://www.saratogafire.org/event/saratoga-amateur-radio-association-2/2023-04-05/
LOCATION:Saratoga Community Room\, 14380 Saratoga Avenue\, Saratoga\, CA\, 95070\, United States
GEO:37.259058;-122.0314999
X-APPLE-STRUCTURED-LOCATION;VALUE=URI;X-ADDRESS=Saratoga Community Room 14380 Saratoga Avenue Saratoga CA 95070 United States;X-APPLE-RADIUS=500;X-TITLE=14380 Saratoga Avenue:geo:-122.0314999,37.259058
END:VEVENT
BEGIN:VEVENT
DTSTART;TZID=America/Los_Angeles:20230411T080000
DTEND;TZID=America/Los_Angeles:20230411T170000
DTSTAMP:20260421T032535
CREATED:20230307T162136Z
LAST-MODIFIED:20230307T162136Z
UID:10000110-1681200000-1681232400@www.saratogafire.org
SUMMARY:County Fire
DESCRIPTION:
URL:https://www.saratogafire.org/event/county-fire-6/
LOCATION:Saratoga Community Room\, 14380 Saratoga Avenue\, Saratoga\, CA\, 95070\, United States
GEO:37.259058;-122.0314999
X-APPLE-STRUCTURED-LOCATION;VALUE=URI;X-ADDRESS=Saratoga Community Room 14380 Saratoga Avenue Saratoga CA 95070 United States;X-APPLE-RADIUS=500;X-TITLE=14380 Saratoga Avenue:geo:-122.0314999,37.259058
END:VEVENT
BEGIN:VEVENT
DTSTART;TZID=America/Los_Angeles:20230413T090000
DTEND;TZID=America/Los_Angeles:20230413T140000
DTSTAMP:20260421T032535
CREATED:20230410T145135Z
LAST-MODIFIED:20230410T145135Z
UID:10000113-1681376400-1681394400@www.saratogafire.org
SUMMARY:FireSafe Council
DESCRIPTION:
URL:https://www.saratogafire.org/event/firesafe-council-2/
LOCATION:Saratoga Community Room\, 14380 Saratoga Avenue\, Saratoga\, CA\, 95070\, United States
GEO:37.259058;-122.0314999
X-APPLE-STRUCTURED-LOCATION;VALUE=URI;X-ADDRESS=Saratoga Community Room 14380 Saratoga Avenue Saratoga CA 95070 United States;X-APPLE-RADIUS=500;X-TITLE=14380 Saratoga Avenue:geo:-122.0314999,37.259058
END:VEVENT
END:VCALENDAR