BEGIN:VCALENDAR
VERSION:2.0
PRODID:-//Saratoga Fire District - ECPv6.15.20//NONSGML v1.0//EN
CALSCALE:GREGORIAN
METHOD:PUBLISH
X-WR-CALNAME:Saratoga Fire District
X-ORIGINAL-URL:https://www.saratogafire.org
X-WR-CALDESC:Events for Saratoga Fire District
REFRESH-INTERVAL;VALUE=DURATION:PT1H
X-Robots-Tag:noindex
X-PUBLISHED-TTL:PT1H
BEGIN:VTIMEZONE
TZID:America/Los_Angeles
BEGIN:DAYLIGHT
TZOFFSETFROM:-0800
TZOFFSETTO:-0700
TZNAME:PDT
DTSTART:20220313T100000
END:DAYLIGHT
BEGIN:STANDARD
TZOFFSETFROM:-0700
TZOFFSETTO:-0800
TZNAME:PST
DTSTART:20221106T090000
END:STANDARD
BEGIN:DAYLIGHT
TZOFFSETFROM:-0800
TZOFFSETTO:-0700
TZNAME:PDT
DTSTART:20230312T100000
END:DAYLIGHT
BEGIN:STANDARD
TZOFFSETFROM:-0700
TZOFFSETTO:-0800
TZNAME:PST
DTSTART:20231105T090000
END:STANDARD
BEGIN:DAYLIGHT
TZOFFSETFROM:-0800
TZOFFSETTO:-0700
TZNAME:PDT
DTSTART:20240310T100000
END:DAYLIGHT
BEGIN:STANDARD
TZOFFSETFROM:-0700
TZOFFSETTO:-0800
TZNAME:PST
DTSTART:20241103T090000
END:STANDARD
BEGIN:DAYLIGHT
TZOFFSETFROM:-0800
TZOFFSETTO:-0700
TZNAME:PDT
DTSTART:20250309T100000
END:DAYLIGHT
BEGIN:STANDARD
TZOFFSETFROM:-0700
TZOFFSETTO:-0800
TZNAME:PST
DTSTART:20251102T090000
END:STANDARD
END:VTIMEZONE
BEGIN:VEVENT
DTSTART;TZID=America/Los_Angeles:20231123T173000
DTEND;TZID=America/Los_Angeles:20231123T183000
DTSTAMP:20260421T155821
CREATED:20231023T160955Z
LAST-MODIFIED:20231114T160554Z
UID:10000128-1700760600-1700764200@www.saratogafire.org
SUMMARY:ROTARY INTERNATIONAL SERVICES COMMITTEE
DESCRIPTION:
URL:https://www.saratogafire.org/event/rotary-international-services-committee/2023-11-23/
LOCATION:Saratoga Community Room\, 14380 Saratoga Avenue\, Saratoga\, CA\, 95070\, United States
GEO:37.259058;-122.0314999
X-APPLE-STRUCTURED-LOCATION;VALUE=URI;X-ADDRESS=Saratoga Community Room 14380 Saratoga Avenue Saratoga CA 95070 United States;X-APPLE-RADIUS=500;X-TITLE=14380 Saratoga Avenue:geo:-122.0314999,37.259058
END:VEVENT
BEGIN:VEVENT
DTSTART;TZID=America/Los_Angeles:20231206T193000
DTEND;TZID=America/Los_Angeles:20231206T210000
DTSTAMP:20260421T155821
CREATED:20230109T175912Z
LAST-MODIFIED:20230109T175912Z
UID:10000076-1701891000-1701896400@www.saratogafire.org
SUMMARY:SARATOGA AMATEUR RADIO ASSOCIATION
DESCRIPTION:
URL:https://www.saratogafire.org/event/saratoga-amateur-radio-association-2/2023-12-06/
LOCATION:Saratoga Community Room\, 14380 Saratoga Avenue\, Saratoga\, CA\, 95070\, United States
GEO:37.259058;-122.0314999
X-APPLE-STRUCTURED-LOCATION;VALUE=URI;X-ADDRESS=Saratoga Community Room 14380 Saratoga Avenue Saratoga CA 95070 United States;X-APPLE-RADIUS=500;X-TITLE=14380 Saratoga Avenue:geo:-122.0314999,37.259058
END:VEVENT
BEGIN:VEVENT
DTSTART;TZID=America/Los_Angeles:20231207T160000
DTEND;TZID=America/Los_Angeles:20231207T183000
DTSTAMP:20260421T155821
CREATED:20231127T182622Z
LAST-MODIFIED:20231127T182622Z
UID:10000179-1701964800-1701973800@www.saratogafire.org
SUMMARY:SARATOGA ROTARY CHARITABLE FOUNDATION
DESCRIPTION:
URL:https://www.saratogafire.org/event/saratoga-rotary-charitable-foundation/
LOCATION:Saratoga Community Room\, 14380 Saratoga Avenue\, Saratoga\, CA\, 95070\, United States
ORGANIZER;CN="SANDIE PREVOT":MAILTO:charitablefoundation@saratogarotary.org
GEO:37.259058;-122.0314999
X-APPLE-STRUCTURED-LOCATION;VALUE=URI;X-ADDRESS=Saratoga Community Room 14380 Saratoga Avenue Saratoga CA 95070 United States;X-APPLE-RADIUS=500;X-TITLE=14380 Saratoga Avenue:geo:-122.0314999,37.259058
END:VEVENT
BEGIN:VEVENT
DTSTART;TZID=America/Los_Angeles:20231212T090000
DTEND;TZID=America/Los_Angeles:20231212T120000
DTSTAMP:20260421T155821
CREATED:20221213T211455Z
LAST-MODIFIED:20221213T211455Z
UID:10000063-1702371600-1702382400@www.saratogafire.org
SUMMARY:Saratoga Fire Board Meeting
DESCRIPTION:
URL:https://www.saratogafire.org/event/saratoga-fire-board-meeting-2/2023-12-12/
LOCATION:Saratoga Community Room\, 14380 Saratoga Avenue\, Saratoga\, CA\, 95070\, United States
GEO:37.259058;-122.0314999
X-APPLE-STRUCTURED-LOCATION;VALUE=URI;X-ADDRESS=Saratoga Community Room 14380 Saratoga Avenue Saratoga CA 95070 United States;X-APPLE-RADIUS=500;X-TITLE=14380 Saratoga Avenue:geo:-122.0314999,37.259058
END:VEVENT
BEGIN:VEVENT
DTSTART;TZID=America/Los_Angeles:20231218T173000
DTEND;TZID=America/Los_Angeles:20231218T183000
DTSTAMP:20260421T155821
CREATED:20230725T153910Z
LAST-MODIFIED:20230731T185835Z
UID:10000119-1702920600-1702924200@www.saratogafire.org
SUMMARY:SARATOGA ROTARY CLUB
DESCRIPTION:
URL:https://www.saratogafire.org/event/saratoga-rotary-club-2/2023-12-18/
LOCATION:CA
ORGANIZER;CN="SANDIE PREVOT":MAILTO:charitablefoundation@saratogarotary.org
END:VEVENT
BEGIN:VEVENT
DTSTART;TZID=America/Los_Angeles:20231228T173000
DTEND;TZID=America/Los_Angeles:20231228T183000
DTSTAMP:20260421T155821
CREATED:20231023T160955Z
LAST-MODIFIED:20231114T160554Z
UID:10000129-1703784600-1703788200@www.saratogafire.org
SUMMARY:ROTARY INTERNATIONAL SERVICES COMMITTEE
DESCRIPTION:
URL:https://www.saratogafire.org/event/rotary-international-services-committee/2023-12-28/
LOCATION:Saratoga Community Room\, 14380 Saratoga Avenue\, Saratoga\, CA\, 95070\, United States
GEO:37.259058;-122.0314999
X-APPLE-STRUCTURED-LOCATION;VALUE=URI;X-ADDRESS=Saratoga Community Room 14380 Saratoga Avenue Saratoga CA 95070 United States;X-APPLE-RADIUS=500;X-TITLE=14380 Saratoga Avenue:geo:-122.0314999,37.259058
END:VEVENT
BEGIN:VEVENT
DTSTART;TZID=America/Los_Angeles:20240109T090000
DTEND;TZID=America/Los_Angeles:20240109T110000
DTSTAMP:20260421T155821
CREATED:20240101T205935Z
LAST-MODIFIED:20240101T205935Z
UID:10000028-1704790800-1704798000@www.saratogafire.org
SUMMARY:Saratoga Fire Board Meeting
DESCRIPTION:
URL:https://www.saratogafire.org/event/saratoga-fire-board-meeting-3/
LOCATION:Saratoga Community Room\, 14380 Saratoga Avenue\, Saratoga\, CA\, 95070\, United States
GEO:37.259058;-122.0314999
X-APPLE-STRUCTURED-LOCATION;VALUE=URI;X-ADDRESS=Saratoga Community Room 14380 Saratoga Avenue Saratoga CA 95070 United States;X-APPLE-RADIUS=500;X-TITLE=14380 Saratoga Avenue:geo:-122.0314999,37.259058
END:VEVENT
BEGIN:VEVENT
DTSTART;TZID=America/Los_Angeles:20240115T173000
DTEND;TZID=America/Los_Angeles:20240115T183000
DTSTAMP:20260421T155821
CREATED:20230725T153910Z
LAST-MODIFIED:20230731T185835Z
UID:10000120-1705339800-1705343400@www.saratogafire.org
SUMMARY:SARATOGA ROTARY CLUB
DESCRIPTION:
URL:https://www.saratogafire.org/event/saratoga-rotary-club-2/2024-01-15/
LOCATION:CA
ORGANIZER;CN="SANDIE PREVOT":MAILTO:charitablefoundation@saratogarotary.org
END:VEVENT
BEGIN:VEVENT
DTSTART;TZID=America/Los_Angeles:20240119T090000
DTEND;TZID=America/Los_Angeles:20240119T110000
DTSTAMP:20260421T155821
CREATED:20240101T204005Z
LAST-MODIFIED:20240101T204005Z
UID:10000027-1705654800-1705662000@www.saratogafire.org
SUMMARY:Peer Support Group
DESCRIPTION:
URL:https://www.saratogafire.org/event/peer-support-group/
LOCATION:Saratoga Community Room\, 14380 Saratoga Avenue\, Saratoga\, CA\, 95070\, United States
ORGANIZER;CN="Dan Riddle":MAILTO:dan.riddle@sccfd.org
GEO:37.259058;-122.0314999
X-APPLE-STRUCTURED-LOCATION;VALUE=URI;X-ADDRESS=Saratoga Community Room 14380 Saratoga Avenue Saratoga CA 95070 United States;X-APPLE-RADIUS=500;X-TITLE=14380 Saratoga Avenue:geo:-122.0314999,37.259058
END:VEVENT
BEGIN:VEVENT
DTSTART;TZID=America/Los_Angeles:20240125T173000
DTEND;TZID=America/Los_Angeles:20240125T183000
DTSTAMP:20260421T155821
CREATED:20231023T160955Z
LAST-MODIFIED:20231114T160554Z
UID:10000130-1706203800-1706207400@www.saratogafire.org
SUMMARY:ROTARY INTERNATIONAL SERVICES COMMITTEE
DESCRIPTION:
URL:https://www.saratogafire.org/event/rotary-international-services-committee/2024-01-25/
LOCATION:Saratoga Community Room\, 14380 Saratoga Avenue\, Saratoga\, CA\, 95070\, United States
GEO:37.259058;-122.0314999
X-APPLE-STRUCTURED-LOCATION;VALUE=URI;X-ADDRESS=Saratoga Community Room 14380 Saratoga Avenue Saratoga CA 95070 United States;X-APPLE-RADIUS=500;X-TITLE=14380 Saratoga Avenue:geo:-122.0314999,37.259058
END:VEVENT
BEGIN:VEVENT
DTSTART;TZID=America/Los_Angeles:20240219T173000
DTEND;TZID=America/Los_Angeles:20240219T183000
DTSTAMP:20260421T155821
CREATED:20230725T153910Z
LAST-MODIFIED:20230731T185835Z
UID:10000121-1708363800-1708367400@www.saratogafire.org
SUMMARY:SARATOGA ROTARY CLUB
DESCRIPTION:
URL:https://www.saratogafire.org/event/saratoga-rotary-club-2/2024-02-19/
LOCATION:CA
ORGANIZER;CN="SANDIE PREVOT":MAILTO:charitablefoundation@saratogarotary.org
END:VEVENT
BEGIN:VEVENT
DTSTART;TZID=America/Los_Angeles:20240222T173000
DTEND;TZID=America/Los_Angeles:20240222T183000
DTSTAMP:20260421T155821
CREATED:20231023T160955Z
LAST-MODIFIED:20231114T160554Z
UID:10000131-1708623000-1708626600@www.saratogafire.org
SUMMARY:ROTARY INTERNATIONAL SERVICES COMMITTEE
DESCRIPTION:
URL:https://www.saratogafire.org/event/rotary-international-services-committee/2024-02-22/
LOCATION:Saratoga Community Room\, 14380 Saratoga Avenue\, Saratoga\, CA\, 95070\, United States
GEO:37.259058;-122.0314999
X-APPLE-STRUCTURED-LOCATION;VALUE=URI;X-ADDRESS=Saratoga Community Room 14380 Saratoga Avenue Saratoga CA 95070 United States;X-APPLE-RADIUS=500;X-TITLE=14380 Saratoga Avenue:geo:-122.0314999,37.259058
END:VEVENT
BEGIN:VEVENT
DTSTART;TZID=America/Los_Angeles:20240306T163000
DTEND;TZID=America/Los_Angeles:20240306T183000
DTSTAMP:20260421T155822
CREATED:20230731T185552Z
LAST-MODIFIED:20240101T203444Z
UID:10000139-1709742600-1709749800@www.saratogafire.org
SUMMARY:ROTARY CHARITABLE FOUNDATION
DESCRIPTION:
URL:https://www.saratogafire.org/event/rotary-charitable-foundation-3/
LOCATION:Saratoga Community Room\, 14380 Saratoga Avenue\, Saratoga\, CA\, 95070\, United States
ORGANIZER;CN="SANDIE PREVOT":MAILTO:charitablefoundation@saratogarotary.org
GEO:37.259058;-122.0314999
X-APPLE-STRUCTURED-LOCATION;VALUE=URI;X-ADDRESS=Saratoga Community Room 14380 Saratoga Avenue Saratoga CA 95070 United States;X-APPLE-RADIUS=500;X-TITLE=14380 Saratoga Avenue:geo:-122.0314999,37.259058
END:VEVENT
BEGIN:VEVENT
DTSTART;TZID=America/Los_Angeles:20240307T110000
DTEND;TZID=America/Los_Angeles:20240307T130000
DTSTAMP:20260421T155822
CREATED:20240304T175516Z
LAST-MODIFIED:20240304T175516Z
UID:10000180-1709809200-1709816400@www.saratogafire.org
SUMMARY:FireSafe Council
DESCRIPTION:
URL:https://www.saratogafire.org/event/firesafe-council-5/
LOCATION:Saratoga Community Room\, 14380 Saratoga Avenue\, Saratoga\, CA\, 95070\, United States
ORGANIZER;CN="Karol Gallucci":MAILTO:kgallucci@sccfiresafe.org
GEO:37.259058;-122.0314999
X-APPLE-STRUCTURED-LOCATION;VALUE=URI;X-ADDRESS=Saratoga Community Room 14380 Saratoga Avenue Saratoga CA 95070 United States;X-APPLE-RADIUS=500;X-TITLE=14380 Saratoga Avenue:geo:-122.0314999,37.259058
END:VEVENT
BEGIN:VEVENT
DTSTART;TZID=America/Los_Angeles:20240318T173000
DTEND;TZID=America/Los_Angeles:20240318T183000
DTSTAMP:20260421T155822
CREATED:20230725T153910Z
LAST-MODIFIED:20230731T185835Z
UID:10000122-1710783000-1710786600@www.saratogafire.org
SUMMARY:SARATOGA ROTARY CLUB
DESCRIPTION:
URL:https://www.saratogafire.org/event/saratoga-rotary-club-2/2024-03-18/
LOCATION:CA
ORGANIZER;CN="SANDIE PREVOT":MAILTO:charitablefoundation@saratogarotary.org
END:VEVENT
BEGIN:VEVENT
DTSTART;TZID=America/Los_Angeles:20240319T090000
DTEND;TZID=America/Los_Angeles:20240319T110000
DTSTAMP:20260421T155822
CREATED:20240101T210027Z
LAST-MODIFIED:20240101T210740Z
UID:10000220-1710838800-1710846000@www.saratogafire.org
SUMMARY:Saratoga Fire Board Meeting
DESCRIPTION:
URL:https://www.saratogafire.org/event/saratoga-fire-board-meeting-4/
LOCATION:Saratoga Community Room\, 14380 Saratoga Avenue\, Saratoga\, CA\, 95070\, United States
GEO:37.259058;-122.0314999
X-APPLE-STRUCTURED-LOCATION;VALUE=URI;X-ADDRESS=Saratoga Community Room 14380 Saratoga Avenue Saratoga CA 95070 United States;X-APPLE-RADIUS=500;X-TITLE=14380 Saratoga Avenue:geo:-122.0314999,37.259058
END:VEVENT
BEGIN:VEVENT
DTSTART;TZID=America/Los_Angeles:20240325T080000
DTEND;TZID=America/Los_Angeles:20240325T170000
DTSTAMP:20260421T155822
CREATED:20230925T181126Z
LAST-MODIFIED:20230925T181126Z
UID:10000158-1711353600-1711386000@www.saratogafire.org
SUMMARY:FIRE DEPARTMENT MEDICALS
DESCRIPTION:
URL:https://www.saratogafire.org/event/fire-department-medicals/2024-03-25/
LOCATION:Saratoga Community Room\, 14380 Saratoga Avenue\, Saratoga\, CA\, 95070\, United States
ORGANIZER;CN="Tiffany Thornton":MAILTO:tiffany.thornton@sccfd.org
GEO:37.259058;-122.0314999
X-APPLE-STRUCTURED-LOCATION;VALUE=URI;X-ADDRESS=Saratoga Community Room 14380 Saratoga Avenue Saratoga CA 95070 United States;X-APPLE-RADIUS=500;X-TITLE=14380 Saratoga Avenue:geo:-122.0314999,37.259058
END:VEVENT
BEGIN:VEVENT
DTSTART;TZID=America/Los_Angeles:20240326T080000
DTEND;TZID=America/Los_Angeles:20240326T170000
DTSTAMP:20260421T155822
CREATED:20230925T181517Z
LAST-MODIFIED:20230925T181517Z
UID:10000172-1711440000-1711472400@www.saratogafire.org
SUMMARY:MEDICALS
DESCRIPTION:
URL:https://www.saratogafire.org/event/medicals/2024-03-26/
LOCATION:Saratoga Community Room\, 14380 Saratoga Avenue\, Saratoga\, CA\, 95070\, United States
ORGANIZER;CN="Tiffany Thornton":MAILTO:tiffany.thornton@sccfd.org
GEO:37.259058;-122.0314999
X-APPLE-STRUCTURED-LOCATION;VALUE=URI;X-ADDRESS=Saratoga Community Room 14380 Saratoga Avenue Saratoga CA 95070 United States;X-APPLE-RADIUS=500;X-TITLE=14380 Saratoga Avenue:geo:-122.0314999,37.259058
END:VEVENT
BEGIN:VEVENT
DTSTART;TZID=America/Los_Angeles:20240327T080000
DTEND;TZID=America/Los_Angeles:20240327T170000
DTSTAMP:20260421T155822
CREATED:20230925T181757Z
LAST-MODIFIED:20230925T181757Z
UID:10000165-1711526400-1711558800@www.saratogafire.org
SUMMARY:MEDICALS
DESCRIPTION:
URL:https://www.saratogafire.org/event/medicals-2/2024-03-27/
LOCATION:Saratoga Community Room\, 14380 Saratoga Avenue\, Saratoga\, CA\, 95070\, United States
ORGANIZER;CN="Tiffany Thornton":MAILTO:tiffany.thornton@sccfd.org
GEO:37.259058;-122.0314999
X-APPLE-STRUCTURED-LOCATION;VALUE=URI;X-ADDRESS=Saratoga Community Room 14380 Saratoga Avenue Saratoga CA 95070 United States;X-APPLE-RADIUS=500;X-TITLE=14380 Saratoga Avenue:geo:-122.0314999,37.259058
END:VEVENT
BEGIN:VEVENT
DTSTART;TZID=America/Los_Angeles:20240328T080000
DTEND;TZID=America/Los_Angeles:20240328T170000
DTSTAMP:20260421T155822
CREATED:20230925T181903Z
LAST-MODIFIED:20230925T181903Z
UID:10000151-1711612800-1711645200@www.saratogafire.org
SUMMARY:MEDICALS
DESCRIPTION:
URL:https://www.saratogafire.org/event/medicals-3/2024-03-28/
LOCATION:Saratoga Community Room\, 14380 Saratoga Avenue\, Saratoga\, CA\, 95070\, United States
ORGANIZER;CN="Tiffany Thornton":MAILTO:tiffany.thornton@sccfd.org
GEO:37.259058;-122.0314999
X-APPLE-STRUCTURED-LOCATION;VALUE=URI;X-ADDRESS=Saratoga Community Room 14380 Saratoga Avenue Saratoga CA 95070 United States;X-APPLE-RADIUS=500;X-TITLE=14380 Saratoga Avenue:geo:-122.0314999,37.259058
END:VEVENT
BEGIN:VEVENT
DTSTART;TZID=America/Los_Angeles:20240328T173000
DTEND;TZID=America/Los_Angeles:20240328T183000
DTSTAMP:20260421T155822
CREATED:20231023T160955Z
LAST-MODIFIED:20231114T160554Z
UID:10000132-1711647000-1711650600@www.saratogafire.org
SUMMARY:ROTARY INTERNATIONAL SERVICES COMMITTEE
DESCRIPTION:
URL:https://www.saratogafire.org/event/rotary-international-services-committee/2024-03-28/
LOCATION:Saratoga Community Room\, 14380 Saratoga Avenue\, Saratoga\, CA\, 95070\, United States
GEO:37.259058;-122.0314999
X-APPLE-STRUCTURED-LOCATION;VALUE=URI;X-ADDRESS=Saratoga Community Room 14380 Saratoga Avenue Saratoga CA 95070 United States;X-APPLE-RADIUS=500;X-TITLE=14380 Saratoga Avenue:geo:-122.0314999,37.259058
END:VEVENT
BEGIN:VEVENT
DTSTART;TZID=America/Los_Angeles:20240329T080000
DTEND;TZID=America/Los_Angeles:20240329T170000
DTSTAMP:20260421T155822
CREATED:20230925T181955Z
LAST-MODIFIED:20230925T181955Z
UID:10000143-1711699200-1711731600@www.saratogafire.org
SUMMARY:MEDICALS
DESCRIPTION:
URL:https://www.saratogafire.org/event/medicals-4/2024-03-29/
LOCATION:Saratoga Community Room\, 14380 Saratoga Avenue\, Saratoga\, CA\, 95070\, United States
ORGANIZER;CN="Tiffany Thornton":MAILTO:tiffany.thornton@sccfd.org
GEO:37.259058;-122.0314999
X-APPLE-STRUCTURED-LOCATION;VALUE=URI;X-ADDRESS=Saratoga Community Room 14380 Saratoga Avenue Saratoga CA 95070 United States;X-APPLE-RADIUS=500;X-TITLE=14380 Saratoga Avenue:geo:-122.0314999,37.259058
END:VEVENT
BEGIN:VEVENT
DTSTART;TZID=America/Los_Angeles:20240401T080000
DTEND;TZID=America/Los_Angeles:20240401T170000
DTSTAMP:20260421T155822
CREATED:20230925T181126Z
LAST-MODIFIED:20230925T181126Z
UID:10000159-1711958400-1711990800@www.saratogafire.org
SUMMARY:FIRE DEPARTMENT MEDICALS
DESCRIPTION:
URL:https://www.saratogafire.org/event/fire-department-medicals/2024-04-01/
LOCATION:Saratoga Community Room\, 14380 Saratoga Avenue\, Saratoga\, CA\, 95070\, United States
ORGANIZER;CN="Tiffany Thornton":MAILTO:tiffany.thornton@sccfd.org
GEO:37.259058;-122.0314999
X-APPLE-STRUCTURED-LOCATION;VALUE=URI;X-ADDRESS=Saratoga Community Room 14380 Saratoga Avenue Saratoga CA 95070 United States;X-APPLE-RADIUS=500;X-TITLE=14380 Saratoga Avenue:geo:-122.0314999,37.259058
END:VEVENT
BEGIN:VEVENT
DTSTART;TZID=America/Los_Angeles:20240402T080000
DTEND;TZID=America/Los_Angeles:20240402T170000
DTSTAMP:20260421T155822
CREATED:20230925T181517Z
LAST-MODIFIED:20230925T181517Z
UID:10000173-1712044800-1712077200@www.saratogafire.org
SUMMARY:MEDICALS
DESCRIPTION:
URL:https://www.saratogafire.org/event/medicals/2024-04-02/
LOCATION:Saratoga Community Room\, 14380 Saratoga Avenue\, Saratoga\, CA\, 95070\, United States
ORGANIZER;CN="Tiffany Thornton":MAILTO:tiffany.thornton@sccfd.org
GEO:37.259058;-122.0314999
X-APPLE-STRUCTURED-LOCATION;VALUE=URI;X-ADDRESS=Saratoga Community Room 14380 Saratoga Avenue Saratoga CA 95070 United States;X-APPLE-RADIUS=500;X-TITLE=14380 Saratoga Avenue:geo:-122.0314999,37.259058
END:VEVENT
BEGIN:VEVENT
DTSTART;TZID=America/Los_Angeles:20240403T080000
DTEND;TZID=America/Los_Angeles:20240403T170000
DTSTAMP:20260421T155822
CREATED:20230925T181757Z
LAST-MODIFIED:20230925T181757Z
UID:10000166-1712131200-1712163600@www.saratogafire.org
SUMMARY:MEDICALS
DESCRIPTION:
URL:https://www.saratogafire.org/event/medicals-2/2024-04-03/
LOCATION:Saratoga Community Room\, 14380 Saratoga Avenue\, Saratoga\, CA\, 95070\, United States
ORGANIZER;CN="Tiffany Thornton":MAILTO:tiffany.thornton@sccfd.org
GEO:37.259058;-122.0314999
X-APPLE-STRUCTURED-LOCATION;VALUE=URI;X-ADDRESS=Saratoga Community Room 14380 Saratoga Avenue Saratoga CA 95070 United States;X-APPLE-RADIUS=500;X-TITLE=14380 Saratoga Avenue:geo:-122.0314999,37.259058
END:VEVENT
BEGIN:VEVENT
DTSTART;TZID=America/Los_Angeles:20240404T080000
DTEND;TZID=America/Los_Angeles:20240404T170000
DTSTAMP:20260421T155822
CREATED:20230925T181903Z
LAST-MODIFIED:20230925T181903Z
UID:10000152-1712217600-1712250000@www.saratogafire.org
SUMMARY:MEDICALS
DESCRIPTION:
URL:https://www.saratogafire.org/event/medicals-3/2024-04-04/
LOCATION:Saratoga Community Room\, 14380 Saratoga Avenue\, Saratoga\, CA\, 95070\, United States
ORGANIZER;CN="Tiffany Thornton":MAILTO:tiffany.thornton@sccfd.org
GEO:37.259058;-122.0314999
X-APPLE-STRUCTURED-LOCATION;VALUE=URI;X-ADDRESS=Saratoga Community Room 14380 Saratoga Avenue Saratoga CA 95070 United States;X-APPLE-RADIUS=500;X-TITLE=14380 Saratoga Avenue:geo:-122.0314999,37.259058
END:VEVENT
BEGIN:VEVENT
DTSTART;TZID=America/Los_Angeles:20240405T080000
DTEND;TZID=America/Los_Angeles:20240405T170000
DTSTAMP:20260421T155822
CREATED:20230925T181955Z
LAST-MODIFIED:20230925T181955Z
UID:10000144-1712304000-1712336400@www.saratogafire.org
SUMMARY:MEDICALS
DESCRIPTION:
URL:https://www.saratogafire.org/event/medicals-4/2024-04-05/
LOCATION:Saratoga Community Room\, 14380 Saratoga Avenue\, Saratoga\, CA\, 95070\, United States
ORGANIZER;CN="Tiffany Thornton":MAILTO:tiffany.thornton@sccfd.org
GEO:37.259058;-122.0314999
X-APPLE-STRUCTURED-LOCATION;VALUE=URI;X-ADDRESS=Saratoga Community Room 14380 Saratoga Avenue Saratoga CA 95070 United States;X-APPLE-RADIUS=500;X-TITLE=14380 Saratoga Avenue:geo:-122.0314999,37.259058
END:VEVENT
BEGIN:VEVENT
DTSTART;TZID=America/Los_Angeles:20240408T080000
DTEND;TZID=America/Los_Angeles:20240408T170000
DTSTAMP:20260421T155822
CREATED:20230925T181126Z
LAST-MODIFIED:20230925T181126Z
UID:10000160-1712563200-1712595600@www.saratogafire.org
SUMMARY:FIRE DEPARTMENT MEDICALS
DESCRIPTION:
URL:https://www.saratogafire.org/event/fire-department-medicals/2024-04-08/
LOCATION:Saratoga Community Room\, 14380 Saratoga Avenue\, Saratoga\, CA\, 95070\, United States
ORGANIZER;CN="Tiffany Thornton":MAILTO:tiffany.thornton@sccfd.org
GEO:37.259058;-122.0314999
X-APPLE-STRUCTURED-LOCATION;VALUE=URI;X-ADDRESS=Saratoga Community Room 14380 Saratoga Avenue Saratoga CA 95070 United States;X-APPLE-RADIUS=500;X-TITLE=14380 Saratoga Avenue:geo:-122.0314999,37.259058
END:VEVENT
BEGIN:VEVENT
DTSTART;TZID=America/Los_Angeles:20240409T080000
DTEND;TZID=America/Los_Angeles:20240409T170000
DTSTAMP:20260421T155822
CREATED:20230925T181517Z
LAST-MODIFIED:20230925T181517Z
UID:10000174-1712649600-1712682000@www.saratogafire.org
SUMMARY:MEDICALS
DESCRIPTION:
URL:https://www.saratogafire.org/event/medicals/2024-04-09/
LOCATION:Saratoga Community Room\, 14380 Saratoga Avenue\, Saratoga\, CA\, 95070\, United States
ORGANIZER;CN="Tiffany Thornton":MAILTO:tiffany.thornton@sccfd.org
GEO:37.259058;-122.0314999
X-APPLE-STRUCTURED-LOCATION;VALUE=URI;X-ADDRESS=Saratoga Community Room 14380 Saratoga Avenue Saratoga CA 95070 United States;X-APPLE-RADIUS=500;X-TITLE=14380 Saratoga Avenue:geo:-122.0314999,37.259058
END:VEVENT
BEGIN:VEVENT
DTSTART;TZID=America/Los_Angeles:20240410T080000
DTEND;TZID=America/Los_Angeles:20240410T170000
DTSTAMP:20260421T155822
CREATED:20230925T181757Z
LAST-MODIFIED:20230925T181757Z
UID:10000167-1712736000-1712768400@www.saratogafire.org
SUMMARY:MEDICALS
DESCRIPTION:
URL:https://www.saratogafire.org/event/medicals-2/2024-04-10/
LOCATION:Saratoga Community Room\, 14380 Saratoga Avenue\, Saratoga\, CA\, 95070\, United States
ORGANIZER;CN="Tiffany Thornton":MAILTO:tiffany.thornton@sccfd.org
GEO:37.259058;-122.0314999
X-APPLE-STRUCTURED-LOCATION;VALUE=URI;X-ADDRESS=Saratoga Community Room 14380 Saratoga Avenue Saratoga CA 95070 United States;X-APPLE-RADIUS=500;X-TITLE=14380 Saratoga Avenue:geo:-122.0314999,37.259058
END:VEVENT
END:VCALENDAR